BEGIN:VCALENDAR
VERSION:2.0
PRODID:-//Seneca Park Zoo - ECPv6.15.18//NONSGML v1.0//EN
CALSCALE:GREGORIAN
METHOD:PUBLISH
X-WR-CALNAME:Seneca Park Zoo
X-ORIGINAL-URL:https://senecaparkzoo.org
X-WR-CALDESC:Events for Seneca Park Zoo
REFRESH-INTERVAL;VALUE=DURATION:PT1H
X-Robots-Tag:noindex
X-PUBLISHED-TTL:PT1H
BEGIN:VTIMEZONE
TZID:America/New_York
BEGIN:DAYLIGHT
TZOFFSETFROM:-0500
TZOFFSETTO:-0400
TZNAME:EDT
DTSTART:20230312T070000
END:DAYLIGHT
BEGIN:STANDARD
TZOFFSETFROM:-0400
TZOFFSETTO:-0500
TZNAME:EST
DTSTART:20231105T060000
END:STANDARD
BEGIN:DAYLIGHT
TZOFFSETFROM:-0500
TZOFFSETTO:-0400
TZNAME:EDT
DTSTART:20240310T070000
END:DAYLIGHT
BEGIN:STANDARD
TZOFFSETFROM:-0400
TZOFFSETTO:-0500
TZNAME:EST
DTSTART:20241103T060000
END:STANDARD
BEGIN:DAYLIGHT
TZOFFSETFROM:-0500
TZOFFSETTO:-0400
TZNAME:EDT
DTSTART:20250309T070000
END:DAYLIGHT
BEGIN:STANDARD
TZOFFSETFROM:-0400
TZOFFSETTO:-0500
TZNAME:EST
DTSTART:20251102T060000
END:STANDARD
END:VTIMEZONE
BEGIN:VEVENT
DTSTART;TZID=America/New_York:20240907T090000
DTEND;TZID=America/New_York:20240907T120000
DTSTAMP:20260422T094834
CREATED:20240821T132550Z
LAST-MODIFIED:20240826T132553Z
UID:10000445-1725699600-1725710400@senecaparkzoo.org
SUMMARY:Community Clean-Up - Ontario Beach Park
DESCRIPTION:Help Us Keep Our City Clean!				\n				\n				\n				\n									Join Seneca Park Zoo’s team of Naturalists at our Maplewood Rose Garden Community Cleanup! May 23 from 9 am until noon\, we’ll collect trash and do our part keeping plastic and other waste out of local waterways. You’ll also have a chance to learn about the Nature Center that will be opening in Lower Maplewood Park this summer! Tools\, bags\, and gloves are provided\, so just bring water\, friends\, and be sure to dress for the weather! 								\n				\n				\n				\n									\n					\n						\n									Click here to register!\n					\n					\n				\n								\n				\n					\n		\n					\n		\n				\n						\n					\n			\n							\n		\n					\n		\n				\n						\n					\n			\n						\n				\n					Upcoming Community Clean Ups				\n				\n				\n				\n							\n			\n						\n		\n						\n				\n				\n				\n					\n	\n		\n	\n		1 event found.	\n	\n		\n	\n\n		\n	\n\n		\n	\n\n	\n\n\n		\n		\n\n		\n		\n\n	\n	Events\n\n	\n	\n	\n	\n\n	\n	\n		\n	\n		\n	\n\n	\n\n\n		\n	\n		\n	\n\n	\n\n	\n\n\n	\n	Today\n\n	\n	\n		\n							\n					Upcoming				\n				\n					Upcoming				\n					\n				\n	\n\n	\n	\n		Select date.	\n	\n	\n	\n		\n	\n\n	\n	\n		\n	\n\n	\n\n\n	\n	\n	\n\n\n\n\n		\n		\n\n							\n				\n	\n		\n			May 2026		\n	\n\n\n				\n\n	\n	\n		\n			Sat		\n		\n			23		\n	\n\n\n	\n		\n			\n	\n\n\n			\n\n				\n					\n	\n		Maplewood Rose Garden Community Clean Up	\n\n					\n		\n		May 23 @ 9:00 am - 12:00 pm	\n	\n														\n\n				\n	Help Us Keep Our City Clean! Join Seneca Park Zoo’s team of Naturalists at our Maplewood Rose Garden Community Cleanup!May 23 from 9 am until noon\, we’ll collect trash and […] \n\n				\n			\n		\n	\n\n\n\n			\n		\n\n		\n	\n		\n	\n		\n	\n\n		\n			Previous Events		\n	\n\n\n		\n	\n		Today	\n\n\n		\n	\n		\n			Next Events		\n		\n	\n\n	\n\n	\n\n\n		\n	\n		\n			\n				Subscribe to calendar			\n			\n	\n\n		\n		\n			\n									\n\n	\n		Google Calendar	\n\n									\n\n	\n		iCalendar	\n\n									\n\n	\n		Outlook 365	\n\n									\n\n	\n		Outlook Live	\n\n									\n\n	\n		Export .ics file	\n\n									\n\n	\n		Export Outlook .ics file
URL:https://senecaparkzoo.org/event/community-clean-up-ontario-beach-park/
LOCATION:Ontario Beach Park – Dentzel Carousel\, 1 Beach Ave\, Rochester\, NY\, 14612\, United States
CATEGORIES:Conservation and Education,Park Clean Up
ATTACH;FMTTYPE=image/webp:https://senecaparkzoo.org/wp-content/uploads/2022/09/community-cleanup-logo-new.webp
END:VEVENT
BEGIN:VEVENT
DTSTART;TZID=America/New_York:20240914T090000
DTEND;TZID=America/New_York:20240914T120000
DTSTAMP:20260422T094834
CREATED:20240821T133429Z
LAST-MODIFIED:20240821T133653Z
UID:10000446-1726304400-1726315200@senecaparkzoo.org
SUMMARY:Community Clean-Up - Durand Eastman Beach
DESCRIPTION:Help Us Keep Our City Clean!				\n				\n				\n				\n									Join Seneca Park Zoo’s team of Naturalists at our Maplewood Rose Garden Community Cleanup! May 23 from 9 am until noon\, we’ll collect trash and do our part keeping plastic and other waste out of local waterways. You’ll also have a chance to learn about the Nature Center that will be opening in Lower Maplewood Park this summer! Tools\, bags\, and gloves are provided\, so just bring water\, friends\, and be sure to dress for the weather! 								\n				\n				\n				\n									\n					\n						\n									Click here to register!\n					\n					\n				\n								\n				\n					\n		\n					\n		\n				\n						\n					\n			\n							\n		\n					\n		\n				\n						\n					\n			\n						\n				\n					Upcoming Community Clean Ups				\n				\n				\n				\n							\n			\n						\n		\n						\n				\n				\n				\n					\n	\n		\n	\n		1 event found.	\n	\n		\n	\n\n		\n	\n\n		\n	\n\n	\n\n\n		\n		\n\n		\n		\n\n	\n	Events\n\n	\n	\n	\n	\n\n	\n	\n		\n	\n		\n	\n\n	\n\n\n		\n	\n		\n	\n\n	\n\n	\n\n\n	\n	Today\n\n	\n	\n		\n							\n					Upcoming				\n				\n					Upcoming				\n					\n				\n	\n\n	\n	\n		Select date.	\n	\n	\n	\n		\n	\n\n	\n	\n		\n	\n\n	\n\n\n	\n	\n	\n\n\n\n\n		\n		\n\n							\n				\n	\n		\n			May 2026		\n	\n\n\n				\n\n	\n	\n		\n			Sat		\n		\n			23		\n	\n\n\n	\n		\n			\n	\n\n\n			\n\n				\n					\n	\n		Maplewood Rose Garden Community Clean Up	\n\n					\n		\n		May 23 @ 9:00 am - 12:00 pm	\n	\n														\n\n				\n	Help Us Keep Our City Clean! Join Seneca Park Zoo’s team of Naturalists at our Maplewood Rose Garden Community Cleanup!May 23 from 9 am until noon\, we’ll collect trash and […] \n\n				\n			\n		\n	\n\n\n\n			\n		\n\n		\n	\n		\n	\n		\n	\n\n		\n			Previous Events		\n	\n\n\n		\n	\n		Today	\n\n\n		\n	\n		\n			Next Events		\n		\n	\n\n	\n\n	\n\n\n		\n	\n		\n			\n				Subscribe to calendar			\n			\n	\n\n		\n		\n			\n									\n\n	\n		Google Calendar	\n\n									\n\n	\n		iCalendar	\n\n									\n\n	\n		Outlook 365	\n\n									\n\n	\n		Outlook Live	\n\n									\n\n	\n		Export .ics file	\n\n									\n\n	\n		Export Outlook .ics file
URL:https://senecaparkzoo.org/event/community-clean-up-durand-eastman-beach/
LOCATION:Durand Eastman Beach\, 1342 Lake Shore Blvd\, Rochester\, NY\, 14614\, United States
CATEGORIES:Conservation and Education,Park Clean Up
ATTACH;FMTTYPE=image/webp:https://senecaparkzoo.org/wp-content/uploads/2022/09/community-cleanup-logo-new.webp
END:VEVENT
BEGIN:VEVENT
DTSTART;TZID=America/New_York:20240922T100000
DTEND;TZID=America/New_York:20240922T160000
DTSTAMP:20260422T094834
CREATED:20240905T203245Z
LAST-MODIFIED:20240912T160311Z
UID:10000452-1726999200-1727020800@senecaparkzoo.org
SUMMARY:Deaf Culture Awareness Day at the Zoo 2024
DESCRIPTION:Help Us Keep Our City Clean!				\n				\n				\n				\n									Join Seneca Park Zoo’s team of Naturalists at our Maplewood Rose Garden Community Cleanup! May 23 from 9 am until noon\, we’ll collect trash and do our part keeping plastic and other waste out of local waterways. You’ll also have a chance to learn about the Nature Center that will be opening in Lower Maplewood Park this summer! Tools\, bags\, and gloves are provided\, so just bring water\, friends\, and be sure to dress for the weather! 								\n				\n				\n				\n									\n					\n						\n									Click here to register!\n					\n					\n				\n								\n				\n					\n		\n					\n		\n				\n						\n					\n			\n							\n		\n					\n		\n				\n						\n					\n			\n						\n				\n					Upcoming Community Clean Ups				\n				\n				\n				\n							\n			\n						\n		\n						\n				\n				\n				\n					\n	\n		\n	\n		1 event found.	\n	\n		\n	\n\n		\n	\n\n		\n	\n\n	\n\n\n		\n		\n\n		\n		\n\n	\n	Events\n\n	\n	\n	\n	\n\n	\n	\n		\n	\n		\n	\n\n	\n\n\n		\n	\n		\n	\n\n	\n\n	\n\n\n	\n	Today\n\n	\n	\n		\n							\n					Upcoming				\n				\n					Upcoming				\n					\n				\n	\n\n	\n	\n		Select date.	\n	\n	\n	\n		\n	\n\n	\n	\n		\n	\n\n	\n\n\n	\n	\n	\n\n\n\n\n		\n		\n\n							\n				\n	\n		\n			May 2026		\n	\n\n\n				\n\n	\n	\n		\n			Sat		\n		\n			23		\n	\n\n\n	\n		\n			\n	\n\n\n			\n\n				\n					\n	\n		Maplewood Rose Garden Community Clean Up	\n\n					\n		\n		May 23 @ 9:00 am - 12:00 pm	\n	\n														\n\n				\n	Help Us Keep Our City Clean! Join Seneca Park Zoo’s team of Naturalists at our Maplewood Rose Garden Community Cleanup!May 23 from 9 am until noon\, we’ll collect trash and […] \n\n				\n			\n		\n	\n\n\n\n			\n		\n\n		\n	\n		\n	\n		\n	\n\n		\n			Previous Events		\n	\n\n\n		\n	\n		Today	\n\n\n		\n	\n		\n			Next Events		\n		\n	\n\n	\n\n	\n\n\n		\n	\n		\n			\n				Subscribe to calendar			\n			\n	\n\n		\n		\n			\n									\n\n	\n		Google Calendar	\n\n									\n\n	\n		iCalendar	\n\n									\n\n	\n		Outlook 365	\n\n									\n\n	\n		Outlook Live	\n\n									\n\n	\n		Export .ics file	\n\n									\n\n	\n		Export Outlook .ics file
URL:https://senecaparkzoo.org/event/dcad2024/
LOCATION:At The Zoo\, 2222 St. Paul Street\, Rochester\, New York\, 14621
CATEGORIES:Conservation and Education,Conservation Days
ATTACH;FMTTYPE=image/png:https://senecaparkzoo.org/wp-content/uploads/2024/09/1080x1080_NTID_polarbear_2023_3.png
END:VEVENT
BEGIN:VEVENT
DTSTART;TZID=America/New_York:20240922T100000
DTEND;TZID=America/New_York:20240922T170000
DTSTAMP:20260422T094834
CREATED:20240821T135244Z
LAST-MODIFIED:20240910T162230Z
UID:10000448-1726999200-1727024400@senecaparkzoo.org
SUMMARY:Elephant Awareness Day 2024
DESCRIPTION:Help Us Keep Our City Clean!				\n				\n				\n				\n									Join Seneca Park Zoo’s team of Naturalists at our Maplewood Rose Garden Community Cleanup! May 23 from 9 am until noon\, we’ll collect trash and do our part keeping plastic and other waste out of local waterways. You’ll also have a chance to learn about the Nature Center that will be opening in Lower Maplewood Park this summer! Tools\, bags\, and gloves are provided\, so just bring water\, friends\, and be sure to dress for the weather! 								\n				\n				\n				\n									\n					\n						\n									Click here to register!\n					\n					\n				\n								\n				\n					\n		\n					\n		\n				\n						\n					\n			\n							\n		\n					\n		\n				\n						\n					\n			\n						\n				\n					Upcoming Community Clean Ups				\n				\n				\n				\n							\n			\n						\n		\n						\n				\n				\n				\n					\n	\n		\n	\n		1 event found.	\n	\n		\n	\n\n		\n	\n\n		\n	\n\n	\n\n\n		\n		\n\n		\n		\n\n	\n	Events\n\n	\n	\n	\n	\n\n	\n	\n		\n	\n		\n	\n\n	\n\n\n		\n	\n		\n	\n\n	\n\n	\n\n\n	\n	Today\n\n	\n	\n		\n							\n					Upcoming				\n				\n					Upcoming				\n					\n				\n	\n\n	\n	\n		Select date.	\n	\n	\n	\n		\n	\n\n	\n	\n		\n	\n\n	\n\n\n	\n	\n	\n\n\n\n\n		\n		\n\n							\n				\n	\n		\n			May 2026		\n	\n\n\n				\n\n	\n	\n		\n			Sat		\n		\n			23		\n	\n\n\n	\n		\n			\n	\n\n\n			\n\n				\n					\n	\n		Maplewood Rose Garden Community Clean Up	\n\n					\n		\n		May 23 @ 9:00 am - 12:00 pm	\n	\n														\n\n				\n	Help Us Keep Our City Clean! Join Seneca Park Zoo’s team of Naturalists at our Maplewood Rose Garden Community Cleanup!May 23 from 9 am until noon\, we’ll collect trash and […] \n\n				\n			\n		\n	\n\n\n\n			\n		\n\n		\n	\n		\n	\n		\n	\n\n		\n			Previous Events		\n	\n\n\n		\n	\n		Today	\n\n\n		\n	\n		\n			Next Events		\n		\n	\n\n	\n\n	\n\n\n		\n	\n		\n			\n				Subscribe to calendar			\n			\n	\n\n		\n		\n			\n									\n\n	\n		Google Calendar	\n\n									\n\n	\n		iCalendar	\n\n									\n\n	\n		Outlook 365	\n\n									\n\n	\n		Outlook Live	\n\n									\n\n	\n		Export .ics file	\n\n									\n\n	\n		Export Outlook .ics file
URL:https://senecaparkzoo.org/event/elephant-awareness-day-2024/
LOCATION:At The Zoo\, 2222 St. Paul Street\, Rochester\, New York\, 14621
CATEGORIES:Conservation and Education,Conservation Days,Home Page
ATTACH;FMTTYPE=image/jpeg:https://senecaparkzoo.org/wp-content/uploads/2024/08/1080x1080_Template_SPZ_Elephant.jpg
END:VEVENT
END:VCALENDAR