BEGIN:VCALENDAR
VERSION:2.0
PRODID:-//Seneca Park Zoo - ECPv6.15.18//NONSGML v1.0//EN
CALSCALE:GREGORIAN
METHOD:PUBLISH
X-ORIGINAL-URL:https://senecaparkzoo.org
X-WR-CALDESC:Events for Seneca Park Zoo
REFRESH-INTERVAL;VALUE=DURATION:PT1H
X-Robots-Tag:noindex
X-PUBLISHED-TTL:PT1H
BEGIN:VTIMEZONE
TZID:America/New_York
BEGIN:DAYLIGHT
TZOFFSETFROM:-0500
TZOFFSETTO:-0400
TZNAME:EDT
DTSTART:20230312T070000
END:DAYLIGHT
BEGIN:STANDARD
TZOFFSETFROM:-0400
TZOFFSETTO:-0500
TZNAME:EST
DTSTART:20231105T060000
END:STANDARD
BEGIN:DAYLIGHT
TZOFFSETFROM:-0500
TZOFFSETTO:-0400
TZNAME:EDT
DTSTART:20240310T070000
END:DAYLIGHT
BEGIN:STANDARD
TZOFFSETFROM:-0400
TZOFFSETTO:-0500
TZNAME:EST
DTSTART:20241103T060000
END:STANDARD
BEGIN:DAYLIGHT
TZOFFSETFROM:-0500
TZOFFSETTO:-0400
TZNAME:EDT
DTSTART:20250309T070000
END:DAYLIGHT
BEGIN:STANDARD
TZOFFSETFROM:-0400
TZOFFSETTO:-0500
TZNAME:EST
DTSTART:20251102T060000
END:STANDARD
END:VTIMEZONE
BEGIN:VEVENT
DTSTART;TZID=America/New_York:20241005T090000
DTEND;TZID=America/New_York:20241005T120000
DTSTAMP:20260422T113324
CREATED:20240919T132731Z
LAST-MODIFIED:20240919T135026Z
UID:10000461-1728118800-1728129600@senecaparkzoo.org
SUMMARY:Seth Green Park Cleanup: ROC the Riverway
DESCRIPTION:Help Us Keep Our City Clean!				\n				\n				\n				\n									Join Seneca Park Zoo’s team of Naturalists at our Maplewood Rose Garden Community Cleanup! May 23 from 9 am until noon\, we’ll collect trash and do our part keeping plastic and other waste out of local waterways. You’ll also have a chance to learn about the Nature Center that will be opening in Lower Maplewood Park this summer! Tools\, bags\, and gloves are provided\, so just bring water\, friends\, and be sure to dress for the weather! 								\n				\n				\n				\n									\n					\n						\n									Click here to register!\n					\n					\n				\n								\n				\n					\n		\n					\n		\n				\n						\n					\n			\n							\n		\n					\n		\n				\n						\n					\n			\n						\n				\n					Upcoming Community Clean Ups				\n				\n				\n				\n							\n			\n						\n		\n						\n				\n				\n				\n					\n	\n		\n	\n		1 event found.	\n	\n		\n	\n\n		\n	\n\n		\n	\n\n	\n\n\n		\n		\n\n		\n		\n\n	\n	Events\n\n	\n	\n	\n	\n\n	\n	\n		\n	\n		\n	\n\n	\n\n\n		\n	\n		\n	\n\n	\n\n	\n\n\n	\n	Today\n\n	\n	\n		\n							\n					Upcoming				\n				\n					Upcoming				\n					\n				\n	\n\n	\n	\n		Select date.	\n	\n	\n	\n		\n	\n\n	\n	\n		\n	\n\n	\n\n\n	\n	\n	\n\n\n\n\n		\n		\n\n							\n				\n	\n		\n			May 2026		\n	\n\n\n				\n\n	\n	\n		\n			Sat		\n		\n			23		\n	\n\n\n	\n		\n			\n	\n\n\n			\n\n				\n					\n	\n		Maplewood Rose Garden Community Clean Up	\n\n					\n		\n		May 23 @ 9:00 am - 12:00 pm	\n	\n														\n\n				\n	Help Us Keep Our City Clean! Join Seneca Park Zoo’s team of Naturalists at our Maplewood Rose Garden Community Cleanup!May 23 from 9 am until noon\, we’ll collect trash and do our part keeping plastic and other waste out of local waterways.You'll also have a chance to learn about the Nature Center that will be […] \n\n				\n			\n		\n	\n\n\n\n			\n		\n\n		\n	\n		\n	\n		\n	\n\n		\n			Previous Events		\n	\n\n\n		\n	\n		Today	\n\n\n		\n	\n		\n			Next Events		\n		\n	\n\n	\n\n	\n\n\n		\n	\n		\n			\n				Subscribe to calendar			\n			\n	\n\n		\n		\n			\n									\n\n	\n		Google Calendar	\n\n									\n\n	\n		iCalendar	\n\n									\n\n	\n		Outlook 365	\n\n									\n\n	\n		Outlook Live	\n\n									\n\n	\n		Export .ics file	\n\n									\n\n	\n		Export Outlook .ics file
URL:https://senecaparkzoo.org/event/seth-green-park-cleanup-roc-the-riverway/
LOCATION:Seth Green Park\, 93 Seth Green Dr\, Rochester\, NY\, 14621\, United States
CATEGORIES:Conservation and Education,Park Clean Up
ATTACH;FMTTYPE=image/webp:https://senecaparkzoo.org/wp-content/uploads/2022/09/community-cleanup-logo-new.webp
END:VEVENT
BEGIN:VEVENT
DTSTART;TZID=America/New_York:20241005T090000
DTEND;TZID=America/New_York:20241005T120000
DTSTAMP:20260422T113324
CREATED:20250320T185813Z
LAST-MODIFIED:20250320T185827Z
UID:10000575-1728118800-1728129600@senecaparkzoo.org
SUMMARY:Seth Green Park - Community Clean-Up
DESCRIPTION:Help Us Keep Our City Clean!				\n				\n				\n				\n									Join Seneca Park Zoo’s team of Naturalists at our Maplewood Rose Garden Community Cleanup! May 23 from 9 am until noon\, we’ll collect trash and do our part keeping plastic and other waste out of local waterways. You’ll also have a chance to learn about the Nature Center that will be opening in Lower Maplewood Park this summer! Tools\, bags\, and gloves are provided\, so just bring water\, friends\, and be sure to dress for the weather! 								\n				\n				\n				\n									\n					\n						\n									Click here to register!\n					\n					\n				\n								\n				\n					\n		\n					\n		\n				\n						\n					\n			\n							\n		\n					\n		\n				\n						\n					\n			\n						\n				\n					Upcoming Community Clean Ups				\n				\n				\n				\n							\n			\n						\n		\n						\n				\n				\n				\n					\n	\n		\n	\n		1 event found.	\n	\n		\n	\n\n		\n	\n\n		\n	\n\n	\n\n\n		\n		\n\n		\n		\n\n	\n	Events\n\n	\n	\n	\n	\n\n	\n	\n		\n	\n		\n	\n\n	\n\n\n		\n	\n		\n	\n\n	\n\n	\n\n\n	\n	Today\n\n	\n	\n		\n							\n					Upcoming				\n				\n					Upcoming				\n					\n				\n	\n\n	\n	\n		Select date.	\n	\n	\n	\n		\n	\n\n	\n	\n		\n	\n\n	\n\n\n	\n	\n	\n\n\n\n\n		\n		\n\n							\n				\n	\n		\n			May 2026		\n	\n\n\n				\n\n	\n	\n		\n			Sat		\n		\n			23		\n	\n\n\n	\n		\n			\n	\n\n\n			\n\n				\n					\n	\n		Maplewood Rose Garden Community Clean Up	\n\n					\n		\n		May 23 @ 9:00 am - 12:00 pm	\n	\n														\n\n				\n	Help Us Keep Our City Clean! Join Seneca Park Zoo’s team of Naturalists at our Maplewood Rose Garden Community Cleanup!May 23 from 9 am until noon\, we’ll collect trash and do our part keeping plastic and other waste out of local waterways.You'll also have a chance to learn about the Nature Center that will be […] \n\n				\n			\n		\n	\n\n\n\n			\n		\n\n		\n	\n		\n	\n		\n	\n\n		\n			Previous Events		\n	\n\n\n		\n	\n		Today	\n\n\n		\n	\n		\n			Next Events		\n		\n	\n\n	\n\n	\n\n\n		\n	\n		\n			\n				Subscribe to calendar			\n			\n	\n\n		\n		\n			\n									\n\n	\n		Google Calendar	\n\n									\n\n	\n		iCalendar	\n\n									\n\n	\n		Outlook 365	\n\n									\n\n	\n		Outlook Live	\n\n									\n\n	\n		Export .ics file	\n\n									\n\n	\n		Export Outlook .ics file
URL:https://senecaparkzoo.org/event/seth-green-park-community-clean-up/
LOCATION:Seth Green Park\, 93 Seth Green Dr\, Rochester\, NY\, 14621\, United States
CATEGORIES:Conservation and Education,Park Clean Up
ATTACH;FMTTYPE=image/webp:https://senecaparkzoo.org/wp-content/uploads/2022/09/community-cleanup-logo-new.webp
END:VEVENT
BEGIN:VEVENT
DTSTART;TZID=America/New_York:20241005T100000
DTEND;TZID=America/New_York:20241006T170000
DTSTAMP:20260422T113324
CREATED:20240821T134158Z
LAST-MODIFIED:20240821T135005Z
UID:10000447-1728122400-1728234000@senecaparkzoo.org
SUMMARY:Cold Asia Awareness Weekend 2024
DESCRIPTION:Help Us Keep Our City Clean!				\n				\n				\n				\n									Join Seneca Park Zoo’s team of Naturalists at our Maplewood Rose Garden Community Cleanup! May 23 from 9 am until noon\, we’ll collect trash and do our part keeping plastic and other waste out of local waterways. You’ll also have a chance to learn about the Nature Center that will be opening in Lower Maplewood Park this summer! Tools\, bags\, and gloves are provided\, so just bring water\, friends\, and be sure to dress for the weather! 								\n				\n				\n				\n									\n					\n						\n									Click here to register!\n					\n					\n				\n								\n				\n					\n		\n					\n		\n				\n						\n					\n			\n							\n		\n					\n		\n				\n						\n					\n			\n						\n				\n					Upcoming Community Clean Ups				\n				\n				\n				\n							\n			\n						\n		\n						\n				\n				\n				\n					\n	\n		\n	\n		1 event found.	\n	\n		\n	\n\n		\n	\n\n		\n	\n\n	\n\n\n		\n		\n\n		\n		\n\n	\n	Events\n\n	\n	\n	\n	\n\n	\n	\n		\n	\n		\n	\n\n	\n\n\n		\n	\n		\n	\n\n	\n\n	\n\n\n	\n	Today\n\n	\n	\n		\n							\n					Upcoming				\n				\n					Upcoming				\n					\n				\n	\n\n	\n	\n		Select date.	\n	\n	\n	\n		\n	\n\n	\n	\n		\n	\n\n	\n\n\n	\n	\n	\n\n\n\n\n		\n		\n\n							\n				\n	\n		\n			May 2026		\n	\n\n\n				\n\n	\n	\n		\n			Sat		\n		\n			23		\n	\n\n\n	\n		\n			\n	\n\n\n			\n\n				\n					\n	\n		Maplewood Rose Garden Community Clean Up	\n\n					\n		\n		May 23 @ 9:00 am - 12:00 pm	\n	\n														\n\n				\n	Help Us Keep Our City Clean! Join Seneca Park Zoo’s team of Naturalists at our Maplewood Rose Garden Community Cleanup!May 23 from 9 am until noon\, we’ll collect trash and do our part keeping plastic and other waste out of local waterways.You'll also have a chance to learn about the Nature Center that will be […] \n\n				\n			\n		\n	\n\n\n\n			\n		\n\n		\n	\n		\n	\n		\n	\n\n		\n			Previous Events		\n	\n\n\n		\n	\n		Today	\n\n\n		\n	\n		\n			Next Events		\n		\n	\n\n	\n\n	\n\n\n		\n	\n		\n			\n				Subscribe to calendar			\n			\n	\n\n		\n		\n			\n									\n\n	\n		Google Calendar	\n\n									\n\n	\n		iCalendar	\n\n									\n\n	\n		Outlook 365	\n\n									\n\n	\n		Outlook Live	\n\n									\n\n	\n		Export .ics file	\n\n									\n\n	\n		Export Outlook .ics file
URL:https://senecaparkzoo.org/event/cold-asia-awareness-weekend-2024/
LOCATION:At The Zoo\, 2222 St. Paul Street\, Rochester\, New York\, 14621
CATEGORIES:Conservation and Education,Conservation Days,Home Page
ATTACH;FMTTYPE=image/jpeg:https://senecaparkzoo.org/wp-content/uploads/2024/08/1080x1080__SPZ_coldasiaawareness.jpg
END:VEVENT
BEGIN:VEVENT
DTSTART;TZID=America/New_York:20241005T150000
DTEND;TZID=America/New_York:20241005T180000
DTSTAMP:20260422T113324
CREATED:20240919T133350Z
LAST-MODIFIED:20240919T194406Z
UID:10000462-1728140400-1728151200@senecaparkzoo.org
SUMMARY:Genesee Gateway Center - Community Paddle Clean-Up 10/5/24
DESCRIPTION:Help Us Keep Our City Clean!				\n				\n				\n				\n									Join Seneca Park Zoo’s team of Naturalists at our Maplewood Rose Garden Community Cleanup! May 23 from 9 am until noon\, we’ll collect trash and do our part keeping plastic and other waste out of local waterways. You’ll also have a chance to learn about the Nature Center that will be opening in Lower Maplewood Park this summer! Tools\, bags\, and gloves are provided\, so just bring water\, friends\, and be sure to dress for the weather! 								\n				\n				\n				\n									\n					\n						\n									Click here to register!\n					\n					\n				\n								\n				\n					\n		\n					\n		\n				\n						\n					\n			\n							\n		\n					\n		\n				\n						\n					\n			\n						\n				\n					Upcoming Community Clean Ups				\n				\n				\n				\n							\n			\n						\n		\n						\n				\n				\n				\n					\n	\n		\n	\n		1 event found.	\n	\n		\n	\n\n		\n	\n\n		\n	\n\n	\n\n\n		\n		\n\n		\n		\n\n	\n	Events\n\n	\n	\n	\n	\n\n	\n	\n		\n	\n		\n	\n\n	\n\n\n		\n	\n		\n	\n\n	\n\n	\n\n\n	\n	Today\n\n	\n	\n		\n							\n					Upcoming				\n				\n					Upcoming				\n					\n				\n	\n\n	\n	\n		Select date.	\n	\n	\n	\n		\n	\n\n	\n	\n		\n	\n\n	\n\n\n	\n	\n	\n\n\n\n\n		\n		\n\n							\n				\n	\n		\n			May 2026		\n	\n\n\n				\n\n	\n	\n		\n			Sat		\n		\n			23		\n	\n\n\n	\n		\n			\n	\n\n\n			\n\n				\n					\n	\n		Maplewood Rose Garden Community Clean Up	\n\n					\n		\n		May 23 @ 9:00 am - 12:00 pm	\n	\n														\n\n				\n	Help Us Keep Our City Clean! Join Seneca Park Zoo’s team of Naturalists at our Maplewood Rose Garden Community Cleanup!May 23 from 9 am until noon\, we’ll collect trash and do our part keeping plastic and other waste out of local waterways.You'll also have a chance to learn about the Nature Center that will be […] \n\n				\n			\n		\n	\n\n\n\n			\n		\n\n		\n	\n		\n	\n		\n	\n\n		\n			Previous Events		\n	\n\n\n		\n	\n		Today	\n\n\n		\n	\n		\n			Next Events		\n		\n	\n\n	\n\n	\n\n\n		\n	\n		\n			\n				Subscribe to calendar			\n			\n	\n\n		\n		\n			\n									\n\n	\n		Google Calendar	\n\n									\n\n	\n		iCalendar	\n\n									\n\n	\n		Outlook 365	\n\n									\n\n	\n		Outlook Live	\n\n									\n\n	\n		Export .ics file	\n\n									\n\n	\n		Export Outlook .ics file
URL:https://senecaparkzoo.org/event/genesee-gateway-center-community-paddle-clean-up-10-5-24/
LOCATION:Genesee Gateway Center\, 149 Elmwood Ave\, Rochester\, 14611\, United States
CATEGORIES:Conservation and Education,Park Clean Up
ATTACH;FMTTYPE=image/webp:https://senecaparkzoo.org/wp-content/uploads/2022/09/community-cleanup-logo-new.webp
END:VEVENT
BEGIN:VEVENT
DTSTART;TZID=America/New_York:20241012T090000
DTEND;TZID=America/New_York:20241012T120000
DTSTAMP:20260422T113324
CREATED:20240919T130108Z
LAST-MODIFIED:20240919T131344Z
UID:10000460-1728723600-1728734400@senecaparkzoo.org
SUMMARY:Community Clean-Up - Conkey Corner Park
DESCRIPTION:Help Us Keep Our City Clean!				\n				\n				\n				\n									Join Seneca Park Zoo’s team of Naturalists at our Maplewood Rose Garden Community Cleanup! May 23 from 9 am until noon\, we’ll collect trash and do our part keeping plastic and other waste out of local waterways. You’ll also have a chance to learn about the Nature Center that will be opening in Lower Maplewood Park this summer! Tools\, bags\, and gloves are provided\, so just bring water\, friends\, and be sure to dress for the weather! 								\n				\n				\n				\n									\n					\n						\n									Click here to register!\n					\n					\n				\n								\n				\n					\n		\n					\n		\n				\n						\n					\n			\n							\n		\n					\n		\n				\n						\n					\n			\n						\n				\n					Upcoming Community Clean Ups				\n				\n				\n				\n							\n			\n						\n		\n						\n				\n				\n				\n					\n	\n		\n	\n		1 event found.	\n	\n		\n	\n\n		\n	\n\n		\n	\n\n	\n\n\n		\n		\n\n		\n		\n\n	\n	Events\n\n	\n	\n	\n	\n\n	\n	\n		\n	\n		\n	\n\n	\n\n\n		\n	\n		\n	\n\n	\n\n	\n\n\n	\n	Today\n\n	\n	\n		\n							\n					Upcoming				\n				\n					Upcoming				\n					\n				\n	\n\n	\n	\n		Select date.	\n	\n	\n	\n		\n	\n\n	\n	\n		\n	\n\n	\n\n\n	\n	\n	\n\n\n\n\n		\n		\n\n							\n				\n	\n		\n			May 2026		\n	\n\n\n				\n\n	\n	\n		\n			Sat		\n		\n			23		\n	\n\n\n	\n		\n			\n	\n\n\n			\n\n				\n					\n	\n		Maplewood Rose Garden Community Clean Up	\n\n					\n		\n		May 23 @ 9:00 am - 12:00 pm	\n	\n														\n\n				\n	Help Us Keep Our City Clean! Join Seneca Park Zoo’s team of Naturalists at our Maplewood Rose Garden Community Cleanup!May 23 from 9 am until noon\, we’ll collect trash and do our part keeping plastic and other waste out of local waterways.You'll also have a chance to learn about the Nature Center that will be […] \n\n				\n			\n		\n	\n\n\n\n			\n		\n\n		\n	\n		\n	\n		\n	\n\n		\n			Previous Events		\n	\n\n\n		\n	\n		Today	\n\n\n		\n	\n		\n			Next Events		\n		\n	\n\n	\n\n	\n\n\n		\n	\n		\n			\n				Subscribe to calendar			\n			\n	\n\n		\n		\n			\n									\n\n	\n		Google Calendar	\n\n									\n\n	\n		iCalendar	\n\n									\n\n	\n		Outlook 365	\n\n									\n\n	\n		Outlook Live	\n\n									\n\n	\n		Export .ics file	\n\n									\n\n	\n		Export Outlook .ics file
URL:https://senecaparkzoo.org/event/community-clean-up-conkey-corner-park/
LOCATION:Conkey Corner Park\, 92 Conkey Ave\, Rochester\, NY\, 14621\, United States
CATEGORIES:Conservation and Education,Park Clean Up
ATTACH;FMTTYPE=image/webp:https://senecaparkzoo.org/wp-content/uploads/2022/09/community-cleanup-logo-new.webp
END:VEVENT
BEGIN:VEVENT
DTSTART;TZID=America/New_York:20241014T090000
DTEND;TZID=America/New_York:20241014T160000
DTSTAMP:20260422T113324
CREATED:20240716T164513Z
LAST-MODIFIED:20240716T165455Z
UID:10000434-1728896400-1728921600@senecaparkzoo.org
SUMMARY:Day Off ZooCamp - 2024 Columbus Day
DESCRIPTION:Help Us Keep Our City Clean!				\n				\n				\n				\n									Join Seneca Park Zoo’s team of Naturalists at our Maplewood Rose Garden Community Cleanup! May 23 from 9 am until noon\, we’ll collect trash and do our part keeping plastic and other waste out of local waterways. You’ll also have a chance to learn about the Nature Center that will be opening in Lower Maplewood Park this summer! Tools\, bags\, and gloves are provided\, so just bring water\, friends\, and be sure to dress for the weather! 								\n				\n				\n				\n									\n					\n						\n									Click here to register!\n					\n					\n				\n								\n				\n					\n		\n					\n		\n				\n						\n					\n			\n							\n		\n					\n		\n				\n						\n					\n			\n						\n				\n					Upcoming Community Clean Ups				\n				\n				\n				\n							\n			\n						\n		\n						\n				\n				\n				\n					\n	\n		\n	\n		1 event found.	\n	\n		\n	\n\n		\n	\n\n		\n	\n\n	\n\n\n		\n		\n\n		\n		\n\n	\n	Events\n\n	\n	\n	\n	\n\n	\n	\n		\n	\n		\n	\n\n	\n\n\n		\n	\n		\n	\n\n	\n\n	\n\n\n	\n	Today\n\n	\n	\n		\n							\n					Upcoming				\n				\n					Upcoming				\n					\n				\n	\n\n	\n	\n		Select date.	\n	\n	\n	\n		\n	\n\n	\n	\n		\n	\n\n	\n\n\n	\n	\n	\n\n\n\n\n		\n		\n\n							\n				\n	\n		\n			May 2026		\n	\n\n\n				\n\n	\n	\n		\n			Sat		\n		\n			23		\n	\n\n\n	\n		\n			\n	\n\n\n			\n\n				\n					\n	\n		Maplewood Rose Garden Community Clean Up	\n\n					\n		\n		May 23 @ 9:00 am - 12:00 pm	\n	\n														\n\n				\n	Help Us Keep Our City Clean! Join Seneca Park Zoo’s team of Naturalists at our Maplewood Rose Garden Community Cleanup!May 23 from 9 am until noon\, we’ll collect trash and do our part keeping plastic and other waste out of local waterways.You'll also have a chance to learn about the Nature Center that will be […] \n\n				\n			\n		\n	\n\n\n\n			\n		\n\n		\n	\n		\n	\n		\n	\n\n		\n			Previous Events		\n	\n\n\n		\n	\n		Today	\n\n\n		\n	\n		\n			Next Events		\n		\n	\n\n	\n\n	\n\n\n		\n	\n		\n			\n				Subscribe to calendar			\n			\n	\n\n		\n		\n			\n									\n\n	\n		Google Calendar	\n\n									\n\n	\n		iCalendar	\n\n									\n\n	\n		Outlook 365	\n\n									\n\n	\n		Outlook Live	\n\n									\n\n	\n		Export .ics file	\n\n									\n\n	\n		Export Outlook .ics file
URL:https://senecaparkzoo.org/event/day-off-zoocamp-2024-columbus-day/
LOCATION:At The Zoo\, 2222 St. Paul Street\, Rochester\, New York\, 14621
CATEGORIES:Day Off ZooCamp,Education Events,ZooCamp
ATTACH;FMTTYPE=image/jpeg:https://senecaparkzoo.org/wp-content/uploads/2022/07/Spring-Break-Camp-2015-Emily-Coon-Frisch-e1461605988610.jpg
END:VEVENT
END:VCALENDAR