BEGIN:VCALENDAR
VERSION:2.0
PRODID:-//Seneca Park Zoo - ECPv6.15.18//NONSGML v1.0//EN
CALSCALE:GREGORIAN
METHOD:PUBLISH
X-ORIGINAL-URL:https://senecaparkzoo.org
X-WR-CALDESC:Events for Seneca Park Zoo
REFRESH-INTERVAL;VALUE=DURATION:PT1H
X-Robots-Tag:noindex
X-PUBLISHED-TTL:PT1H
BEGIN:VTIMEZONE
TZID:America/New_York
BEGIN:DAYLIGHT
TZOFFSETFROM:-0500
TZOFFSETTO:-0400
TZNAME:EDT
DTSTART:20230312T070000
END:DAYLIGHT
BEGIN:STANDARD
TZOFFSETFROM:-0400
TZOFFSETTO:-0500
TZNAME:EST
DTSTART:20231105T060000
END:STANDARD
BEGIN:DAYLIGHT
TZOFFSETFROM:-0500
TZOFFSETTO:-0400
TZNAME:EDT
DTSTART:20240310T070000
END:DAYLIGHT
BEGIN:STANDARD
TZOFFSETFROM:-0400
TZOFFSETTO:-0500
TZNAME:EST
DTSTART:20241103T060000
END:STANDARD
BEGIN:DAYLIGHT
TZOFFSETFROM:-0500
TZOFFSETTO:-0400
TZNAME:EDT
DTSTART:20250309T070000
END:DAYLIGHT
BEGIN:STANDARD
TZOFFSETFROM:-0400
TZOFFSETTO:-0500
TZNAME:EST
DTSTART:20251102T060000
END:STANDARD
END:VTIMEZONE
BEGIN:VEVENT
DTSTART;TZID=America/New_York:20241227T090000
DTEND;TZID=America/New_York:20241227T160000
DTSTAMP:20260422T175615
CREATED:20240716T165856Z
LAST-MODIFIED:20240718T150513Z
UID:10000436-1735290000-1735315200@senecaparkzoo.org
SUMMARY:Day Off ZooCamp - Holiday Break 12/27
DESCRIPTION:Help Us Keep Our City Clean!				\n				\n				\n				\n									Join Seneca Park Zoo’s team of Naturalists at our Maplewood Rose Garden Community Cleanup! May 23 from 9 am until noon\, we’ll collect trash and do our part keeping plastic and other waste out of local waterways. You’ll also have a chance to learn about the Nature Center that will be opening in Lower Maplewood Park this summer! Tools\, bags\, and gloves are provided\, so just bring water\, friends\, and be sure to dress for the weather! 								\n				\n				\n				\n									\n					\n						\n									Click here to register!\n					\n					\n				\n								\n				\n					\n		\n					\n		\n				\n						\n					\n			\n							\n		\n					\n		\n				\n						\n					\n			\n						\n				\n					Upcoming Community Clean Ups				\n				\n				\n				\n							\n			\n						\n		\n						\n				\n				\n				\n					\n	\n		\n	\n		1 event found.	\n	\n		\n	\n\n		\n	\n\n		\n	\n\n	\n\n\n		\n		\n\n		\n		\n\n	\n	Events\n\n	\n	\n	\n	\n\n	\n	\n		\n	\n		\n	\n\n	\n\n\n		\n	\n		\n	\n\n	\n\n	\n\n\n	\n	Today\n\n	\n	\n		\n							\n					Upcoming				\n				\n					Upcoming				\n					\n				\n	\n\n	\n	\n		Select date.	\n	\n	\n	\n		\n	\n\n	\n	\n		\n	\n\n	\n\n\n	\n	\n	\n\n\n\n\n		\n		\n\n							\n				\n	\n		\n			May 2026		\n	\n\n\n				\n\n	\n	\n		\n			Sat		\n		\n			23		\n	\n\n\n	\n		\n			\n	\n\n\n			\n\n				\n					\n	\n		Maplewood Rose Garden Community Clean Up	\n\n					\n		\n		May 23 @ 9:00 am - 12:00 pm	\n	\n														\n\n				\n	Help Us Keep Our City Clean! Join Seneca Park Zoo’s team of Naturalists at our Maplewood Rose Garden Community Cleanup!May 23 from 9 am until noon\, we’ll collect trash and do our part keeping plastic and other waste out of local waterways.You'll also have a chance to learn about the Nature Center that will be […] \n\n				\n			\n		\n	\n\n\n\n			\n		\n\n		\n	\n		\n	\n		\n	\n\n		\n			Previous Events		\n	\n\n\n		\n	\n		Today	\n\n\n		\n	\n		\n			Next Events		\n		\n	\n\n	\n\n	\n\n\n		\n	\n		\n			\n				Subscribe to calendar			\n			\n	\n\n		\n		\n			\n									\n\n	\n		Google Calendar	\n\n									\n\n	\n		iCalendar	\n\n									\n\n	\n		Outlook 365	\n\n									\n\n	\n		Outlook Live	\n\n									\n\n	\n		Export .ics file	\n\n									\n\n	\n		Export Outlook .ics file
URL:https://senecaparkzoo.org/event/day-off-zoocamp-holiday24-27/
LOCATION:At The Zoo\, 2222 St. Paul Street\, Rochester\, New York\, 14621
CATEGORIES:Break ZooCamp,Day Off ZooCamp,Education Events,ZooCamp
ATTACH;FMTTYPE=image/jpeg:https://senecaparkzoo.org/wp-content/uploads/2022/07/Spring-Break-Camp-2015-Emily-Coon-Frisch-e1461605988610.jpg
END:VEVENT
BEGIN:VEVENT
DTSTART;TZID=America/New_York:20241230T090000
DTEND;TZID=America/New_York:20241230T160000
DTSTAMP:20260422T175616
CREATED:20240716T170438Z
LAST-MODIFIED:20240718T150431Z
UID:10000437-1735549200-1735574400@senecaparkzoo.org
SUMMARY:Day Off ZooCamp - Holiday Break 12/30
DESCRIPTION:Help Us Keep Our City Clean!				\n				\n				\n				\n									Join Seneca Park Zoo’s team of Naturalists at our Maplewood Rose Garden Community Cleanup! May 23 from 9 am until noon\, we’ll collect trash and do our part keeping plastic and other waste out of local waterways. You’ll also have a chance to learn about the Nature Center that will be opening in Lower Maplewood Park this summer! Tools\, bags\, and gloves are provided\, so just bring water\, friends\, and be sure to dress for the weather! 								\n				\n				\n				\n									\n					\n						\n									Click here to register!\n					\n					\n				\n								\n				\n					\n		\n					\n		\n				\n						\n					\n			\n							\n		\n					\n		\n				\n						\n					\n			\n						\n				\n					Upcoming Community Clean Ups				\n				\n				\n				\n							\n			\n						\n		\n						\n				\n				\n				\n					\n	\n		\n	\n		1 event found.	\n	\n		\n	\n\n		\n	\n\n		\n	\n\n	\n\n\n		\n		\n\n		\n		\n\n	\n	Events\n\n	\n	\n	\n	\n\n	\n	\n		\n	\n		\n	\n\n	\n\n\n		\n	\n		\n	\n\n	\n\n	\n\n\n	\n	Today\n\n	\n	\n		\n							\n					Upcoming				\n				\n					Upcoming				\n					\n				\n	\n\n	\n	\n		Select date.	\n	\n	\n	\n		\n	\n\n	\n	\n		\n	\n\n	\n\n\n	\n	\n	\n\n\n\n\n		\n		\n\n							\n				\n	\n		\n			May 2026		\n	\n\n\n				\n\n	\n	\n		\n			Sat		\n		\n			23		\n	\n\n\n	\n		\n			\n	\n\n\n			\n\n				\n					\n	\n		Maplewood Rose Garden Community Clean Up	\n\n					\n		\n		May 23 @ 9:00 am - 12:00 pm	\n	\n														\n\n				\n	Help Us Keep Our City Clean! Join Seneca Park Zoo’s team of Naturalists at our Maplewood Rose Garden Community Cleanup!May 23 from 9 am until noon\, we’ll collect trash and do our part keeping plastic and other waste out of local waterways.You'll also have a chance to learn about the Nature Center that will be […] \n\n				\n			\n		\n	\n\n\n\n			\n		\n\n		\n	\n		\n	\n		\n	\n\n		\n			Previous Events		\n	\n\n\n		\n	\n		Today	\n\n\n		\n	\n		\n			Next Events		\n		\n	\n\n	\n\n	\n\n\n		\n	\n		\n			\n				Subscribe to calendar			\n			\n	\n\n		\n		\n			\n									\n\n	\n		Google Calendar	\n\n									\n\n	\n		iCalendar	\n\n									\n\n	\n		Outlook 365	\n\n									\n\n	\n		Outlook Live	\n\n									\n\n	\n		Export .ics file	\n\n									\n\n	\n		Export Outlook .ics file
URL:https://senecaparkzoo.org/event/day-off-zoocamp-holiday-break-12-30/
LOCATION:At The Zoo\, 2222 St. Paul Street\, Rochester\, New York\, 14621
CATEGORIES:Break ZooCamp,Day Off ZooCamp,Education Events,ZooCamp
ATTACH;FMTTYPE=image/jpeg:https://senecaparkzoo.org/wp-content/uploads/2022/07/Spring-Break-Camp-2015-Emily-Coon-Frisch-e1461605988610.jpg
END:VEVENT
END:VCALENDAR