BEGIN:VCALENDAR
VERSION:2.0
PRODID:-//Seneca Park Zoo - ECPv6.15.18//NONSGML v1.0//EN
CALSCALE:GREGORIAN
METHOD:PUBLISH
X-WR-CALNAME:Seneca Park Zoo
X-ORIGINAL-URL:https://senecaparkzoo.org
X-WR-CALDESC:Events for Seneca Park Zoo
REFRESH-INTERVAL;VALUE=DURATION:PT1H
X-Robots-Tag:noindex
X-PUBLISHED-TTL:PT1H
BEGIN:VTIMEZONE
TZID:America/New_York
BEGIN:DAYLIGHT
TZOFFSETFROM:-0500
TZOFFSETTO:-0400
TZNAME:EDT
DTSTART:20250309T070000
END:DAYLIGHT
BEGIN:STANDARD
TZOFFSETFROM:-0400
TZOFFSETTO:-0500
TZNAME:EST
DTSTART:20251102T060000
END:STANDARD
BEGIN:DAYLIGHT
TZOFFSETFROM:-0500
TZOFFSETTO:-0400
TZNAME:EDT
DTSTART:20260308T070000
END:DAYLIGHT
BEGIN:STANDARD
TZOFFSETFROM:-0400
TZOFFSETTO:-0500
TZNAME:EST
DTSTART:20261101T060000
END:STANDARD
BEGIN:DAYLIGHT
TZOFFSETFROM:-0500
TZOFFSETTO:-0400
TZNAME:EDT
DTSTART:20270314T070000
END:DAYLIGHT
BEGIN:STANDARD
TZOFFSETFROM:-0400
TZOFFSETTO:-0500
TZNAME:EST
DTSTART:20271107T060000
END:STANDARD
END:VTIMEZONE
BEGIN:VEVENT
DTSTART;TZID=America/New_York:20260211T110000
DTEND;TZID=America/New_York:20260211T113000
DTSTAMP:20260420T102410
CREATED:20251208T161935Z
LAST-MODIFIED:20251208T161954Z
UID:10000840-1770807600-1770809400@senecaparkzoo.org
SUMMARY:Book & Beast
DESCRIPTION:Book & Beast				\n				\n				\n				\n					Get ready for a WILD story time featuring one of our Ambassador Animals!				\n				\n				\n				\n							\n			\n						\n		\n						\n				\n					\n		\n					\n		\n				\n						\n					\n			\n						\n				\n							\n			\n		\n						\n				\n					\n		\n				\n			\n						\n				\n					Book & Beast is Back!				\n				\n				\n				\n									Looking for something new to do with your kids? Join us for Book & Beast\, a free 30-minute story time that ends with an up-close encounter with one of our Ambassador Animals. It’s a wildly fun\, interactive experience perfect for all ages.  								\n				\n					\n		\n					\n		\n				\n						\n					\n			\n						\n				\n							\n			\n						\n		\n						\n				\n				\n				\n					\n	\n		\n	\n		0 events found.	\n	\n		\n	\n\n		\n	\n\n		\n	\n\n	\n\n\n		\n		\n\n		\n		\n\n	\n	Events\n\n	\n			\n			\n	\n		\n		\n		\n		\n	\n\n\n	Notice\n							\n					There were no results found.				\n					\n	\n\n	\n			\n			\n	\n		\n		\n		\n		\n	\n\n\n	Notice\n							\n					There were no results found.				\n					\n	\n\n	\n\n	\n		Events Search and Views Navigation	\n\n			\n	\n	\n\n	\n		Search	\n\n\n		\n			\n	\n		\n\n		\n			\n	\n		Enter Keyword. Search for Events by Keyword.	\n	\n	\n	\n\n\n		\n\n		\n	Find Events\n	\n\n		\n	\n	\n	\n		Event Views Navigation	\n	\n		\n			\n				\n	\n	\n		\n		\n	\n	\n			\n		\n	\n	\n		\n			\n		\n		\n			\n		\n	\n\n			\n			\n				List			\n			\n	\n\n		\n		\n	\n					\n	\n		\n			\n	\n	\n		\n		\n	\n	\n			\n		\n	\n	\n		\n			\n		\n		\n			\n		\n	\n\n		\n		\n			List		\n	\n\n					\n	\n		\n			\n	\n\n		\n		\n			Month		\n	\n\n			\n\n	\n\n\n\n\n	\n\n	\n	\n		\n	\n		\n	\n\n	\n\n\n		\n	\n		\n	\n\n	\n\n	\n\n\n	\n	Today\n\n	\n	\n		\n							\n					Upcoming				\n				\n					Upcoming				\n					\n				\n	\n\n	\n	\n		Select date.	\n	\n	\n	\n		\n	\n\n	\n	\n		\n	\n\n	\n\n\n	\n	\n	\n\n\n\n\n		\n		\n\n			\n		\n\n		\n	\n		\n	\n		\n	\n\n		\n			Previous Events		\n	\n\n\n		\n	\n		Today	\n\n\n		\n	\n		\n			Next Events		\n		\n	\n\n	\n\n	\n\n\n		\n	\n		\n			\n				Subscribe to calendar			\n			\n	\n\n		\n		\n			\n									\n\n	\n		Google Calendar	\n\n									\n\n	\n		iCalendar	\n\n									\n\n	\n		Outlook 365	\n\n									\n\n	\n		Outlook Live	\n\n									\n\n	\n		Export .ics file	\n\n									\n\n	\n		Export Outlook .ics file	\n\n							\n		\n	\n\n\n		\n	\n\n\n\n				\n				\n					\n		\n					\n		\n				\n							\n							\n					\n			\n						\n				\n					Stay Updated				\n				\n				\n				\n									Keep in touch with your friends at Seneca Park Zoo on this event and more! There’s always something happening at the Zoo. 								\n				\n				\n				\n							\n							\n					\n						Instagram\n											\n				\n							\n					\n						Facebook\n											\n				\n							\n					\n						Twitter\n											\n				\n					\n						\n				\n				\n				\n									\n					\n						\n									View Upcoming Events
URL:https://senecaparkzoo.org/event/book-beast-2-11/
LOCATION:At The Zoo\, 2222 St. Paul Street\, Rochester\, New York\, 14621
CATEGORIES:Book & Beast
ATTACH;FMTTYPE=image/png:https://senecaparkzoo.org/wp-content/uploads/2025/10/25_COM_Book_and_Beast_500x500.png
END:VEVENT
BEGIN:VEVENT
DTSTART;TZID=America/New_York:20260225T110000
DTEND;TZID=America/New_York:20260225T113000
DTSTAMP:20260420T102410
CREATED:20251208T162032Z
LAST-MODIFIED:20251208T162042Z
UID:10000841-1772017200-1772019000@senecaparkzoo.org
SUMMARY:Book & Beast
DESCRIPTION:Book & Beast				\n				\n				\n				\n					Get ready for a WILD story time featuring one of our Ambassador Animals!				\n				\n				\n				\n							\n			\n						\n		\n						\n				\n					\n		\n					\n		\n				\n						\n					\n			\n						\n				\n							\n			\n		\n						\n				\n					\n		\n				\n			\n						\n				\n					Book & Beast is Back!				\n				\n				\n				\n									Looking for something new to do with your kids? Join us for Book & Beast\, a free 30-minute story time that ends with an up-close encounter with one of our Ambassador Animals. It’s a wildly fun\, interactive experience perfect for all ages.  								\n				\n					\n		\n					\n		\n				\n						\n					\n			\n						\n				\n							\n			\n						\n		\n						\n				\n				\n				\n					\n	\n		\n	\n		0 events found.	\n	\n		\n	\n\n		\n	\n\n		\n	\n\n	\n\n\n		\n		\n\n		\n		\n\n	\n	Events\n\n	\n			\n			\n	\n		\n		\n		\n		\n	\n\n\n	Notice\n							\n					There were no results found.				\n					\n	\n\n	\n			\n			\n	\n		\n		\n		\n		\n	\n\n\n	Notice\n							\n					There were no results found.				\n					\n	\n\n	\n\n	\n		Events Search and Views Navigation	\n\n			\n	\n	\n\n	\n		Search	\n\n\n		\n			\n	\n		\n\n		\n			\n	\n		Enter Keyword. Search for Events by Keyword.	\n	\n	\n	\n\n\n		\n\n		\n	Find Events\n	\n\n		\n	\n	\n	\n		Event Views Navigation	\n	\n		\n			\n				\n	\n	\n		\n		\n	\n	\n			\n		\n	\n	\n		\n			\n		\n		\n			\n		\n	\n\n			\n			\n				List			\n			\n	\n\n		\n		\n	\n					\n	\n		\n			\n	\n	\n		\n		\n	\n	\n			\n		\n	\n	\n		\n			\n		\n		\n			\n		\n	\n\n		\n		\n			List		\n	\n\n					\n	\n		\n			\n	\n\n		\n		\n			Month		\n	\n\n			\n\n	\n\n\n\n\n	\n\n	\n	\n		\n	\n		\n	\n\n	\n\n\n		\n	\n		\n	\n\n	\n\n	\n\n\n	\n	Today\n\n	\n	\n		\n							\n					Upcoming				\n				\n					Upcoming				\n					\n				\n	\n\n	\n	\n		Select date.	\n	\n	\n	\n		\n	\n\n	\n	\n		\n	\n\n	\n\n\n	\n	\n	\n\n\n\n\n		\n		\n\n			\n		\n\n		\n	\n		\n	\n		\n	\n\n		\n			Previous Events		\n	\n\n\n		\n	\n		Today	\n\n\n		\n	\n		\n			Next Events		\n		\n	\n\n	\n\n	\n\n\n		\n	\n		\n			\n				Subscribe to calendar			\n			\n	\n\n		\n		\n			\n									\n\n	\n		Google Calendar	\n\n									\n\n	\n		iCalendar	\n\n									\n\n	\n		Outlook 365	\n\n									\n\n	\n		Outlook Live	\n\n									\n\n	\n		Export .ics file	\n\n									\n\n	\n		Export Outlook .ics file	\n\n							\n		\n	\n\n\n		\n	\n\n\n\n				\n				\n					\n		\n					\n		\n				\n							\n							\n					\n			\n						\n				\n					Stay Updated				\n				\n				\n				\n									Keep in touch with your friends at Seneca Park Zoo on this event and more! There’s always something happening at the Zoo. 								\n				\n				\n				\n							\n							\n					\n						Instagram\n											\n				\n							\n					\n						Facebook\n											\n				\n							\n					\n						Twitter\n											\n				\n					\n						\n				\n				\n				\n									\n					\n						\n									View Upcoming Events
URL:https://senecaparkzoo.org/event/book-beast-2-25/
LOCATION:At The Zoo\, 2222 St. Paul Street\, Rochester\, New York\, 14621
CATEGORIES:Book & Beast
ATTACH;FMTTYPE=image/png:https://senecaparkzoo.org/wp-content/uploads/2025/10/25_COM_Book_and_Beast_500x500.png
END:VEVENT
END:VCALENDAR