BEGIN:VCALENDAR
VERSION:2.0
PRODID:-//Seneca Park Zoo - ECPv6.15.18//NONSGML v1.0//EN
CALSCALE:GREGORIAN
METHOD:PUBLISH
X-WR-CALNAME:Seneca Park Zoo
X-ORIGINAL-URL:https://senecaparkzoo.org
X-WR-CALDESC:Events for Seneca Park Zoo
REFRESH-INTERVAL;VALUE=DURATION:PT1H
X-Robots-Tag:noindex
X-PUBLISHED-TTL:PT1H
BEGIN:VTIMEZONE
TZID:America/New_York
BEGIN:DAYLIGHT
TZOFFSETFROM:-0500
TZOFFSETTO:-0400
TZNAME:EDT
DTSTART:20210314T070000
END:DAYLIGHT
BEGIN:STANDARD
TZOFFSETFROM:-0400
TZOFFSETTO:-0500
TZNAME:EST
DTSTART:20211107T060000
END:STANDARD
BEGIN:DAYLIGHT
TZOFFSETFROM:-0500
TZOFFSETTO:-0400
TZNAME:EDT
DTSTART:20220313T070000
END:DAYLIGHT
BEGIN:STANDARD
TZOFFSETFROM:-0400
TZOFFSETTO:-0500
TZNAME:EST
DTSTART:20221106T060000
END:STANDARD
BEGIN:DAYLIGHT
TZOFFSETFROM:-0500
TZOFFSETTO:-0400
TZNAME:EDT
DTSTART:20230312T070000
END:DAYLIGHT
BEGIN:STANDARD
TZOFFSETFROM:-0400
TZOFFSETTO:-0500
TZNAME:EST
DTSTART:20231105T060000
END:STANDARD
END:VTIMEZONE
BEGIN:VEVENT
DTSTART;TZID=America/New_York:20220117T090000
DTEND;TZID=America/New_York:20220117T160000
DTSTAMP:20260425T225308
CREATED:20220928T181746Z
LAST-MODIFIED:20220929T174756Z
UID:10000228-1642410000-1642435200@senecaparkzoo.org
SUMMARY:Day Off ZooCamp
DESCRIPTION:January 17 – Martin Luther King Day\n\n\n\n\n\nSchool is out\, so come to the Zoo instead! Join us for Day Off ZooCamp as we spend the day looking at all different classes of animals that Seneca Park Zoo has to offer. \nIt’s like Summer ZooCamp in a single day! \nWe have implemented safety protocols for ZooCamps\, including universal face coverings.  Read more about our COVID safety precautions here. \n\n\n\nFor ages 5 through 9 \n\n\n\nFull-day: 9 a.m. to 4 p.m. \nThere is no half-day option available for this camp. \n\n\n\n\n\n\nCOST \nMembers: $45 for one full-day \nNon-members: $55 for one full-day \n\n\nREGISTER\n\n\nPlease check your individual school calendar to confirm the day off. \nRegistration for this program is non-refundable but is transferable to another camp.
URL:https://senecaparkzoo.org/event/day-off-zoocamp-mlk21/
LOCATION:At The Zoo\, 2222 St. Paul Street\, Rochester\, New York\, 14621
CATEGORIES:Day Off ZooCamp,Education Events,ZooCamp
ATTACH;FMTTYPE=image/jpeg:https://senecaparkzoo.org/wp-content/uploads/2022/08/zoocamp-pic-1.jpg
END:VEVENT
END:VCALENDAR