BEGIN:VCALENDAR
VERSION:2.0
PRODID:-//Seneca Park Zoo - ECPv6.15.18//NONSGML v1.0//EN
CALSCALE:GREGORIAN
METHOD:PUBLISH
X-WR-CALNAME:Seneca Park Zoo
X-ORIGINAL-URL:https://senecaparkzoo.org
X-WR-CALDESC:Events for Seneca Park Zoo
REFRESH-INTERVAL;VALUE=DURATION:PT1H
X-Robots-Tag:noindex
X-PUBLISHED-TTL:PT1H
BEGIN:VTIMEZONE
TZID:America/New_York
BEGIN:DAYLIGHT
TZOFFSETFROM:-0500
TZOFFSETTO:-0400
TZNAME:EDT
DTSTART:20240310T070000
END:DAYLIGHT
BEGIN:STANDARD
TZOFFSETFROM:-0400
TZOFFSETTO:-0500
TZNAME:EST
DTSTART:20241103T060000
END:STANDARD
BEGIN:DAYLIGHT
TZOFFSETFROM:-0500
TZOFFSETTO:-0400
TZNAME:EDT
DTSTART:20250309T070000
END:DAYLIGHT
BEGIN:STANDARD
TZOFFSETFROM:-0400
TZOFFSETTO:-0500
TZNAME:EST
DTSTART:20251102T060000
END:STANDARD
BEGIN:DAYLIGHT
TZOFFSETFROM:-0500
TZOFFSETTO:-0400
TZNAME:EDT
DTSTART:20260308T070000
END:DAYLIGHT
BEGIN:STANDARD
TZOFFSETFROM:-0400
TZOFFSETTO:-0500
TZNAME:EST
DTSTART:20261101T060000
END:STANDARD
END:VTIMEZONE
BEGIN:VEVENT
DTSTART;TZID=America/New_York:20250217T090000
DTEND;TZID=America/New_York:20250221T160000
DTSTAMP:20260420T142125
CREATED:20241216T205925Z
LAST-MODIFIED:20250114T182323Z
UID:10000517-1739782800-1740153600@senecaparkzoo.org
SUMMARY:February Break ZooCamp 2025
DESCRIPTION:At The Zoo – February 17 – February 21\nCreatures of the Night \n\n\nMonday\, February 17 through Friday\, February 21 \n \n\n\nNocturnal animals usually own the night\, but they will rule the day in this camp focusing on animals who prefer the night-time! Campers will explore creatures of the night through crafts\, games\, up close animal encounters\, and of course visiting animals throughout the Zoo.  \n\n\nFor ages 5 through 9  \n\n\nFull-day: 9 a.m. to 4 p.m.There is no half-day option available for this camp. \n\n\n\n \n\nCOST  Members: $285 for full-dayNon-members: $310 for full-day \n \n\nREGISTER HERE\n \n\n\n\nParticipants must register for the full week of camp; no single day options are available. Registration is non-refundable.
URL:https://senecaparkzoo.org/event/february-break-zoocamp-2025/
LOCATION:At The Zoo\, 2222 St. Paul Street\, Rochester\, New York\, 14621
CATEGORIES:Break ZooCamp,Day Off ZooCamp,Education Events,Winter Break ZooCamp,ZooCamp
ATTACH;FMTTYPE=image/jpeg:https://senecaparkzoo.org/wp-content/uploads/2022/09/12.29.2020-day-off-camp-1_Tricia-Chapman-scaled-1440x1080-1.jpg
END:VEVENT
END:VCALENDAR