BEGIN:VCALENDAR
VERSION:2.0
PRODID:-//Seneca Park Zoo - ECPv6.15.18//NONSGML v1.0//EN
CALSCALE:GREGORIAN
METHOD:PUBLISH
X-WR-CALNAME:Seneca Park Zoo
X-ORIGINAL-URL:https://senecaparkzoo.org
X-WR-CALDESC:Events for Seneca Park Zoo
REFRESH-INTERVAL;VALUE=DURATION:PT1H
X-Robots-Tag:noindex
X-PUBLISHED-TTL:PT1H
BEGIN:VTIMEZONE
TZID:America/New_York
BEGIN:DAYLIGHT
TZOFFSETFROM:-0500
TZOFFSETTO:-0400
TZNAME:EDT
DTSTART:20250309T070000
END:DAYLIGHT
BEGIN:STANDARD
TZOFFSETFROM:-0400
TZOFFSETTO:-0500
TZNAME:EST
DTSTART:20251102T060000
END:STANDARD
BEGIN:DAYLIGHT
TZOFFSETFROM:-0500
TZOFFSETTO:-0400
TZNAME:EDT
DTSTART:20260308T070000
END:DAYLIGHT
BEGIN:STANDARD
TZOFFSETFROM:-0400
TZOFFSETTO:-0500
TZNAME:EST
DTSTART:20261101T060000
END:STANDARD
BEGIN:DAYLIGHT
TZOFFSETFROM:-0500
TZOFFSETTO:-0400
TZNAME:EDT
DTSTART:20270314T070000
END:DAYLIGHT
BEGIN:STANDARD
TZOFFSETFROM:-0400
TZOFFSETTO:-0500
TZNAME:EST
DTSTART:20271107T060000
END:STANDARD
END:VTIMEZONE
BEGIN:VEVENT
DTSTART;TZID=America/New_York:20260426T080000
DTEND;TZID=America/New_York:20260426T093000
DTSTAMP:20260424T094651
CREATED:20260316T215123Z
LAST-MODIFIED:20260406T172231Z
UID:10000924-1777190400-1777195800@senecaparkzoo.org
SUMMARY:Beginner Birding Tour
DESCRIPTION:Beginner Birding Tour				\n				\n				\n				\n							\n			\n						\n		\n						\n				\n					\n		\n					\n		\n				\n						\n					\n			\n						\n				\n									\n					\n				\n														\n															\n													\n						\n													\n																\n												\n				\n								\n				\n					\n		\n				\n			\n						\n				\n							\n			\n		\n						\n				\n				\n				\n					A guided bird watching tour of the Zoo!				\n				\n				\n				\n									Learn about the different birds that live here at Seneca Park Zoo. In this guided tour\, we will explore the Zoo looking for birds and listening to calls. Bring your own binoculars or borrow a pair! Birders of all skill levels welcome.  								\n				\n				\n				\n									\n					\n						\n									Click here\n					\n					\n				\n								\n				\n					\n		\n					\n		\n				\n						\n					\n			\n						\n				\n					Upcoming Nature Hikes & Bird Watching Tours				\n				\n				\n				\n							\n			\n						\n		\n						\n				\n				\n				\n					\n	\n		\n	\n		4 events found.	\n	\n		\n	\n\n		\n	\n\n		\n	\n\n	\n\n\n		\n		\n\n		\n		\n\n	\n	Events\n\n	\n	\n	\n	\n\n	\n	\n		\n	\n		\n	\n\n	\n\n\n		\n	\n		\n	\n\n	\n\n	\n\n\n	\n	Today\n\n	\n	\n		\n							\n					Upcoming				\n				\n					Upcoming				\n					\n				\n	\n\n	\n	\n		Select date.	\n	\n	\n	\n		\n	\n\n	\n	\n		\n	\n\n	\n\n\n	\n	\n	\n\n\n\n\n		\n		\n\n							\n				\n	\n		\n			April 2026		\n	\n\n\n				\n\n	\n	\n		\n			Sun		\n		\n			26		\n	\n\n\n	\n		\n			\n	\n\n\n			\n\n				\n					\n	\n		Beginner Birding Tour	\n\n					\n		\n		April 26 @ 8:00 am - 9:30 am	\n	\n					\n	\n		At The Zoo	\n	\n		2222 St. Paul Street\, Rochester\, New York	\n	\n									\n\n				\n	Beginner Bird Watching Tour A guided bird watching tour of the Zoo! Learn about the different birds that live here at Seneca Park Zoo. In this guided tour\, we will explore the Zoo looking for birds and listening to calls. Bring your own binoculars or borrow a pair! Birders of all skill levels welcome. Click here Upcoming Nature Hikes & Bird Watching Tours 3 events found. Events Today Upcoming Upcoming Select date. April 2026 Sun 12 Beginner Bird Watching Tour April… \n\n				\n	\n		$18 – $20	\n\n\n			\n		\n	\n\n\n\n							\n				\n	\n		\n			May 2026		\n	\n\n\n				\n\n	\n	\n		\n			Sun		\n		\n			3		\n	\n\n\n	\n		\n			\n	\n\n\n			\n\n				\n					\n	\n		Beginner Birding Tour	\n\n					\n		\n		May 3 @ 8:00 am - 9:30 am	\n	\n					\n	\n		At The Zoo	\n	\n		2222 St. Paul Street\, Rochester\, New York	\n	\n									\n\n				\n	Beginner Bird Watching Tour A guided bird watching tour of the Zoo! Learn about the different birds that live here at Seneca Park Zoo. In this guided tour\, we will explore the Zoo looking for birds and listening to calls. Bring your own binoculars or borrow a pair! Birders of all skill levels welcome. Click here Upcoming Nature Hikes & Bird Watching Tours 2 events found. Events Today Upcoming Upcoming Select date. April 2026 Sun 12 Beginner Bird Watching Tour April… \n\n				\n	\n		$18 – $20	\n\n\n			\n		\n	\n\n\n\n							\n				\n				\n\n	\n	\n		\n			Sat		\n		\n			9		\n	\n\n\n	\n		\n			\n	\n\n\n			\n\n				\n					\n	\n		Beginner Birding Tour	\n\n					\n		\n		May 9 @ 8:00 am - 9:30 am	\n	\n					\n	\n		At The Zoo	\n	\n		2222 St. Paul Street\, Rochester\, New York	\n	\n									\n\n				\n	Beginner Bird Watching Tour A guided bird watching tour of the Zoo! Learn about the different birds that live here at Seneca Park Zoo. In this guided tour\, we will explore the Zoo looking for birds and listening to calls. Bring your own binoculars or borrow a pair! Birders of all skill levels welcome. Click here Upcoming Nature Hikes & Bird Watching Tours 2 events found. Events Today Upcoming Upcoming Select date. April 2026 Sun 12 Beginner Bird Watching Tour April… \n\n				\n	\n		$18 – $20	\n\n\n			\n		\n	\n\n\n\n							\n				\n				\n\n	\n	\n		\n			Sun		\n		\n			24		\n	\n\n\n	\n		\n			\n	\n\n\n			\n\n				\n					\n	\n		Beginner Birding Tour	\n\n					\n		\n		May 24 @ 8:00 am - 9:30 am	\n	\n					\n	\n		At The Zoo	\n	\n		2222 St. Paul Street\, Rochester\, New York	\n	\n									\n\n				\n	Beginner Birding Tour A guided bird watching tour of the Zoo! Learn about the different birds that live here at Seneca Park Zoo. In this guided tour\, we will explore the Zoo looking for birds and listening to calls. Bring your own binoculars or borrow a pair! Birders of all skill levels welcome.  Click here Upcoming Nature Hikes & Bird Watching Tours 6 events found. Events Today Upcoming Upcoming Select date. April 2026 Sun 12 Beginner Birding Tour April 12 @… \n\n				\n	\n		$18 – $20	\n\n\n			\n		\n	\n\n\n\n			\n		\n\n		\n	\n		\n	\n		\n	\n\n		\n			Previous Events		\n	\n\n\n		\n	\n		Today	\n\n\n		\n	\n		\n			Next Events		\n		\n	\n\n	\n\n	\n\n\n		\n	\n		\n			\n				Subscribe to calendar			\n			\n	\n\n		\n		\n			\n									\n\n	\n		Google Calendar	\n\n									\n\n	\n		iCalendar	\n\n									\n\n	\n		Outlook 365	\n\n									\n\n	\n		Outlook Live	\n\n									\n\n	\n		Export .ics file	\n\n									\n\n	\n		Export Outlook .ics file
URL:https://senecaparkzoo.org/event/beginner-birding-tour-4-26/
LOCATION:At The Zoo\, 2222 St. Paul Street\, Rochester\, New York\, 14621
CATEGORIES:Nature Hikes
ATTACH;FMTTYPE=image/png:https://senecaparkzoo.org/wp-content/uploads/2026/03/2026-Beginner-Bird-Watching-Tour-Post-1-April-12-500-x-500-px.png
END:VEVENT
END:VCALENDAR