BEGIN:VCALENDAR
VERSION:2.0
PRODID:-//Seneca Park Zoo - ECPv6.15.18//NONSGML v1.0//EN
CALSCALE:GREGORIAN
METHOD:PUBLISH
X-ORIGINAL-URL:https://senecaparkzoo.org
X-WR-CALDESC:Events for Seneca Park Zoo
REFRESH-INTERVAL;VALUE=DURATION:PT1H
X-Robots-Tag:noindex
X-PUBLISHED-TTL:PT1H
BEGIN:VTIMEZONE
TZID:America/New_York
BEGIN:DAYLIGHT
TZOFFSETFROM:-0500
TZOFFSETTO:-0400
TZNAME:EDT
DTSTART:20210314T070000
END:DAYLIGHT
BEGIN:STANDARD
TZOFFSETFROM:-0400
TZOFFSETTO:-0500
TZNAME:EST
DTSTART:20211107T060000
END:STANDARD
BEGIN:DAYLIGHT
TZOFFSETFROM:-0500
TZOFFSETTO:-0400
TZNAME:EDT
DTSTART:20220313T070000
END:DAYLIGHT
BEGIN:STANDARD
TZOFFSETFROM:-0400
TZOFFSETTO:-0500
TZNAME:EST
DTSTART:20221106T060000
END:STANDARD
BEGIN:DAYLIGHT
TZOFFSETFROM:-0500
TZOFFSETTO:-0400
TZNAME:EDT
DTSTART:20230312T070000
END:DAYLIGHT
BEGIN:STANDARD
TZOFFSETFROM:-0400
TZOFFSETTO:-0500
TZNAME:EST
DTSTART:20231105T060000
END:STANDARD
END:VTIMEZONE
BEGIN:VEVENT
DTSTART;TZID=America/New_York:20221029T100000
DTEND;TZID=America/New_York:20221029T110000
DTSTAMP:20260424T113347
CREATED:20220928T172942Z
LAST-MODIFIED:20220928T173014Z
UID:10000210-1667037600-1667041200@senecaparkzoo.org
SUMMARY:Invasive Species Early Detection Hike - Durand Eastman Park (10/29)
DESCRIPTION:Join two zoo naturalists for our City Nature Challenge BioBlitz nature hikes in some of Rochester’s beautiful parks. This hike will take place on April 28th from 9:30 a.m. -11:30 a.m. at Cobbs Hill Park.  The goal of these Bioblitz’s is to document the variety of plant\, animal\, and fungal species that exist in and around the City of Rochester. We will hike through these parks and stop to document the organisms we find on the iNaturalist App. Throughout the hike we will give you opportunities to go out and explore areas on your own to see what you are able find. 								\n				\n				\n				\n									\n					\n						\n									Register for Nature Hike\n					\n					\n				\n								\n				\n					\n		\n					\n		\n				\n						\n					\n			\n						\n				\n									The City Nature Challenge is an international effort for people to find and document plants and wildlife in cities across the globe. It’s a bioblitz-style competition where cities are in a contest against each other to see who can make the most observations of nature\, who can find the most species\, and who can engage the most people. By participating in the City Nature Challenge\, not only do you learn more about your local nature\, but you can also make your city a better place – for you and other species! 								\n				\n				\n				\n									\n					\n						\n									Learn About City Nature Challenge
URL:https://senecaparkzoo.org/event/hike-durand-eastman-park-10-29/
LOCATION:Durand Eastman Park\, Rochester\, New York
CATEGORIES:Conservation and Education,Nature Hikes
ATTACH;FMTTYPE=image/jpeg:https://senecaparkzoo.org/wp-content/uploads/2022/08/Nature-Hike-with-PRISM-070818-Wayne-Smith-15-scaled-1.jpg
END:VEVENT
BEGIN:VEVENT
DTSTART;TZID=America/New_York:20221008T100000
DTEND;TZID=America/New_York:20221008T110000
DTSTAMP:20260424T113347
CREATED:20220928T171435Z
LAST-MODIFIED:20220929T144350Z
UID:10000204-1665223200-1665226800@senecaparkzoo.org
SUMMARY:Invasive Species Early Detection Hike - Maplewood Park (10/8)
DESCRIPTION:Join two zoo naturalists for our City Nature Challenge BioBlitz nature hikes in some of Rochester’s beautiful parks. This hike will take place on April 28th from 9:30 a.m. -11:30 a.m. at Cobbs Hill Park.  The goal of these Bioblitz’s is to document the variety of plant\, animal\, and fungal species that exist in and around the City of Rochester. We will hike through these parks and stop to document the organisms we find on the iNaturalist App. Throughout the hike we will give you opportunities to go out and explore areas on your own to see what you are able find. 								\n				\n				\n				\n									\n					\n						\n									Register for Nature Hike\n					\n					\n				\n								\n				\n					\n		\n					\n		\n				\n						\n					\n			\n						\n				\n									The City Nature Challenge is an international effort for people to find and document plants and wildlife in cities across the globe. It’s a bioblitz-style competition where cities are in a contest against each other to see who can make the most observations of nature\, who can find the most species\, and who can engage the most people. By participating in the City Nature Challenge\, not only do you learn more about your local nature\, but you can also make your city a better place – for you and other species! 								\n				\n				\n				\n									\n					\n						\n									Learn About City Nature Challenge
URL:https://senecaparkzoo.org/event/invasive-species-early-detection-hike-maplewood-park-10-8/
LOCATION:Maplewood Park\, 89 Maplewood Dr\, Rochester\, NY\, 14615\, United States
CATEGORIES:Conservation and Education,Nature Hikes
ATTACH;FMTTYPE=image/jpeg:https://senecaparkzoo.org/wp-content/uploads/2022/09/Nature-Hike-with-PRISM-070818-Wayne-Smith-15-1-scaled-e1657216604679.jpeg
END:VEVENT
BEGIN:VEVENT
DTSTART;TZID=America/New_York:20220929T080000
DTEND;TZID=America/New_York:20220929T170000
DTSTAMP:20260424T113347
CREATED:20220929T134743Z
LAST-MODIFIED:20220929T134743Z
UID:10000258-1664438400-1664470800@senecaparkzoo.org
SUMMARY:Invasive Species Early Detection Hike - Four Mile Creek Preserve
DESCRIPTION:Join two zoo naturalists for our City Nature Challenge BioBlitz nature hikes in some of Rochester’s beautiful parks. This hike will take place on April 28th from 9:30 a.m. -11:30 a.m. at Cobbs Hill Park.  The goal of these Bioblitz’s is to document the variety of plant\, animal\, and fungal species that exist in and around the City of Rochester. We will hike through these parks and stop to document the organisms we find on the iNaturalist App. Throughout the hike we will give you opportunities to go out and explore areas on your own to see what you are able find. 								\n				\n				\n				\n									\n					\n						\n									Register for Nature Hike\n					\n					\n				\n								\n				\n					\n		\n					\n		\n				\n						\n					\n			\n						\n				\n									The City Nature Challenge is an international effort for people to find and document plants and wildlife in cities across the globe. It’s a bioblitz-style competition where cities are in a contest against each other to see who can make the most observations of nature\, who can find the most species\, and who can engage the most people. By participating in the City Nature Challenge\, not only do you learn more about your local nature\, but you can also make your city a better place – for you and other species! 								\n				\n				\n				\n									\n					\n						\n									Learn About City Nature Challenge
URL:https://senecaparkzoo.org/event/invasive-species-early-detection-hike-four-mile-creek-preserve-2/
LOCATION:Four Mile Creek Preserve
CATEGORIES:Conservation and Education,Nature Hikes
ATTACH;FMTTYPE=image/jpeg:https://senecaparkzoo.org/wp-content/uploads/2022/08/Nature-Hike-with-PRISM-070818-Wayne-Smith-15-1-scaled-e1657216604679.jpg
END:VEVENT
BEGIN:VEVENT
DTSTART;TZID=America/New_York:20220915T180000
DTEND;TZID=America/New_York:20220915T190000
DTSTAMP:20260424T113347
CREATED:20220928T185309Z
LAST-MODIFIED:20220929T145039Z
UID:10000232-1663264800-1663268400@senecaparkzoo.org
SUMMARY:Invasive Species Early Detection Nature Hike at Thousand Acre Swamp
DESCRIPTION:Join two zoo naturalists for our City Nature Challenge BioBlitz nature hikes in some of Rochester’s beautiful parks. This hike will take place on April 28th from 9:30 a.m. -11:30 a.m. at Cobbs Hill Park.  The goal of these Bioblitz’s is to document the variety of plant\, animal\, and fungal species that exist in and around the City of Rochester. We will hike through these parks and stop to document the organisms we find on the iNaturalist App. Throughout the hike we will give you opportunities to go out and explore areas on your own to see what you are able find. 								\n				\n				\n				\n									\n					\n						\n									Register for Nature Hike\n					\n					\n				\n								\n				\n					\n		\n					\n		\n				\n						\n					\n			\n						\n				\n									The City Nature Challenge is an international effort for people to find and document plants and wildlife in cities across the globe. It’s a bioblitz-style competition where cities are in a contest against each other to see who can make the most observations of nature\, who can find the most species\, and who can engage the most people. By participating in the City Nature Challenge\, not only do you learn more about your local nature\, but you can also make your city a better place – for you and other species! 								\n				\n				\n				\n									\n					\n						\n									Learn About City Nature Challenge
URL:https://senecaparkzoo.org/event/invasive-species-early-detection-nature-hike-at-thousand-acre-swamp/
LOCATION:Thousand Acre Swamp\, Veterans Park Way\, Penfield\, NY\, 14526\, United States
CATEGORIES:Conservation and Education,Nature Hikes
ATTACH;FMTTYPE=image/jpeg:https://senecaparkzoo.org/wp-content/uploads/2022/09/Nature-Hike-with-PRISM-070818-Wayne-Smith-15-1-scaled-e1657216604679.jpeg
END:VEVENT
BEGIN:VEVENT
DTSTART;TZID=America/New_York:20220818T180000
DTEND;TZID=America/New_York:20220818T190000
DTSTAMP:20260424T113347
CREATED:20220928T192920Z
LAST-MODIFIED:20220929T145624Z
UID:10000237-1660845600-1660849200@senecaparkzoo.org
SUMMARY:Invasive Species Early Detection Hike - Whiting Nature Preserve (8/18)
DESCRIPTION:Join two zoo naturalists for our City Nature Challenge BioBlitz nature hikes in some of Rochester’s beautiful parks. This hike will take place on April 28th from 9:30 a.m. -11:30 a.m. at Cobbs Hill Park.  The goal of these Bioblitz’s is to document the variety of plant\, animal\, and fungal species that exist in and around the City of Rochester. We will hike through these parks and stop to document the organisms we find on the iNaturalist App. Throughout the hike we will give you opportunities to go out and explore areas on your own to see what you are able find. 								\n				\n				\n				\n									\n					\n						\n									Register for Nature Hike\n					\n					\n				\n								\n				\n					\n		\n					\n		\n				\n						\n					\n			\n						\n				\n									The City Nature Challenge is an international effort for people to find and document plants and wildlife in cities across the globe. It’s a bioblitz-style competition where cities are in a contest against each other to see who can make the most observations of nature\, who can find the most species\, and who can engage the most people. By participating in the City Nature Challenge\, not only do you learn more about your local nature\, but you can also make your city a better place – for you and other species! 								\n				\n				\n				\n									\n					\n						\n									Learn About City Nature Challenge
URL:https://senecaparkzoo.org/event/invasive-species-early-detection-hike-whiting-nature-preserve-8-18/
LOCATION:Whiting Nature Preserve\, 403 Whiting Rd\, Webster\, New York\, 14580\, United States
CATEGORIES:Conservation and Education,Nature Hikes
ATTACH;FMTTYPE=image/jpeg:https://senecaparkzoo.org/wp-content/uploads/2022/09/Nature-Hike-with-PRISM-070818-Wayne-Smith-15-1-scaled-e1657216604679.jpeg
END:VEVENT
BEGIN:VEVENT
DTSTART;TZID=America/New_York:20220804T180000
DTEND;TZID=America/New_York:20220804T190000
DTSTAMP:20260424T113347
CREATED:20220928T200533Z
LAST-MODIFIED:20220929T151827Z
UID:10000242-1659636000-1659639600@senecaparkzoo.org
SUMMARY:Invasive Species Early Detection Hike - Dolomite Trail (8/4)
DESCRIPTION:Join two zoo naturalists for our City Nature Challenge BioBlitz nature hikes in some of Rochester’s beautiful parks. This hike will take place on April 28th from 9:30 a.m. -11:30 a.m. at Cobbs Hill Park.  The goal of these Bioblitz’s is to document the variety of plant\, animal\, and fungal species that exist in and around the City of Rochester. We will hike through these parks and stop to document the organisms we find on the iNaturalist App. Throughout the hike we will give you opportunities to go out and explore areas on your own to see what you are able find. 								\n				\n				\n				\n									\n					\n						\n									Register for Nature Hike\n					\n					\n				\n								\n				\n					\n		\n					\n		\n				\n						\n					\n			\n						\n				\n									The City Nature Challenge is an international effort for people to find and document plants and wildlife in cities across the globe. It’s a bioblitz-style competition where cities are in a contest against each other to see who can make the most observations of nature\, who can find the most species\, and who can engage the most people. By participating in the City Nature Challenge\, not only do you learn more about your local nature\, but you can also make your city a better place – for you and other species! 								\n				\n				\n				\n									\n					\n						\n									Learn About City Nature Challenge
URL:https://senecaparkzoo.org/event/invasive-species-early-detection-hike-dolomite-trail-8-4/
LOCATION:Dolomite Trail\, Walworth\, New York\, 14568
CATEGORIES:Conservation and Education,Nature Hikes
ATTACH;FMTTYPE=image/jpeg:https://senecaparkzoo.org/wp-content/uploads/2022/09/Nature-Hike-with-PRISM-070818-Wayne-Smith-15-1-scaled-e1657216604679.jpeg
END:VEVENT
BEGIN:VEVENT
DTSTART;TZID=America/New_York:20220721T180000
DTEND;TZID=America/New_York:20220721T190000
DTSTAMP:20260424T113347
CREATED:20220928T201851Z
LAST-MODIFIED:20220928T201851Z
UID:10000247-1658426400-1658430000@senecaparkzoo.org
SUMMARY:Invasive Species Early Detection Hike - Bisig Trail
DESCRIPTION:Join two zoo naturalists for our City Nature Challenge BioBlitz nature hikes in some of Rochester’s beautiful parks. This hike will take place on April 28th from 9:30 a.m. -11:30 a.m. at Cobbs Hill Park.  The goal of these Bioblitz’s is to document the variety of plant\, animal\, and fungal species that exist in and around the City of Rochester. We will hike through these parks and stop to document the organisms we find on the iNaturalist App. Throughout the hike we will give you opportunities to go out and explore areas on your own to see what you are able find. 								\n				\n				\n				\n									\n					\n						\n									Register for Nature Hike\n					\n					\n				\n								\n				\n					\n		\n					\n		\n				\n						\n					\n			\n						\n				\n									The City Nature Challenge is an international effort for people to find and document plants and wildlife in cities across the globe. It’s a bioblitz-style competition where cities are in a contest against each other to see who can make the most observations of nature\, who can find the most species\, and who can engage the most people. By participating in the City Nature Challenge\, not only do you learn more about your local nature\, but you can also make your city a better place – for you and other species! 								\n				\n				\n				\n									\n					\n						\n									Learn About City Nature Challenge
URL:https://senecaparkzoo.org/event/invasive-species-early-detection-hike-bisig-trail/
LOCATION:Bisig Trail\, 140 Parkway View\, Hilton\, New York\, 14468
CATEGORIES:Conservation and Education,Nature Hikes
ATTACH;FMTTYPE=image/jpeg:https://senecaparkzoo.org/wp-content/uploads/2022/09/Scutts-Apple-Mill-062319-Elesa-Kim-10-scaled-266x266-1.jpeg
END:VEVENT
BEGIN:VEVENT
DTSTART;TZID=America/New_York:20220714T180000
DTEND;TZID=America/New_York:20220714T190000
DTSTAMP:20260424T113347
CREATED:20220928T202502Z
LAST-MODIFIED:20220928T202502Z
UID:10000248-1657821600-1657825200@senecaparkzoo.org
SUMMARY:Invasive Species Early Detection Hike - Corbett's Glen
DESCRIPTION:Join two zoo naturalists for our City Nature Challenge BioBlitz nature hikes in some of Rochester’s beautiful parks. This hike will take place on April 28th from 9:30 a.m. -11:30 a.m. at Cobbs Hill Park.  The goal of these Bioblitz’s is to document the variety of plant\, animal\, and fungal species that exist in and around the City of Rochester. We will hike through these parks and stop to document the organisms we find on the iNaturalist App. Throughout the hike we will give you opportunities to go out and explore areas on your own to see what you are able find. 								\n				\n				\n				\n									\n					\n						\n									Register for Nature Hike\n					\n					\n				\n								\n				\n					\n		\n					\n		\n				\n						\n					\n			\n						\n				\n									The City Nature Challenge is an international effort for people to find and document plants and wildlife in cities across the globe. It’s a bioblitz-style competition where cities are in a contest against each other to see who can make the most observations of nature\, who can find the most species\, and who can engage the most people. By participating in the City Nature Challenge\, not only do you learn more about your local nature\, but you can also make your city a better place – for you and other species! 								\n				\n				\n				\n									\n					\n						\n									Learn About City Nature Challenge
URL:https://senecaparkzoo.org/event/invasive-species-early-detection-hike-corbetts-glen/
LOCATION:Corbett’s Glen\, Rochester\, New York
CATEGORIES:Conservation and Education,Nature Hikes
ATTACH;FMTTYPE=image/jpeg:https://senecaparkzoo.org/wp-content/uploads/2022/08/Nature-Hike-with-PRISM-070818-Wayne-Smith-15-1-scaled-e1657216604679.jpg
END:VEVENT
BEGIN:VEVENT
DTSTART;TZID=America/New_York:20220526T180000
DTEND;TZID=America/New_York:20220526T190000
DTSTAMP:20260424T113347
CREATED:20220928T182113Z
LAST-MODIFIED:20220928T182113Z
UID:10000229-1653588000-1653591600@senecaparkzoo.org
SUMMARY:Invasive Species Early Detection Hike - Seneca Park
DESCRIPTION:Join two zoo naturalists for our City Nature Challenge BioBlitz nature hikes in some of Rochester’s beautiful parks. This hike will take place on April 28th from 9:30 a.m. -11:30 a.m. at Cobbs Hill Park.  The goal of these Bioblitz’s is to document the variety of plant\, animal\, and fungal species that exist in and around the City of Rochester. We will hike through these parks and stop to document the organisms we find on the iNaturalist App. Throughout the hike we will give you opportunities to go out and explore areas on your own to see what you are able find. 								\n				\n				\n				\n									\n					\n						\n									Register for Nature Hike\n					\n					\n				\n								\n				\n					\n		\n					\n		\n				\n						\n					\n			\n						\n				\n									The City Nature Challenge is an international effort for people to find and document plants and wildlife in cities across the globe. It’s a bioblitz-style competition where cities are in a contest against each other to see who can make the most observations of nature\, who can find the most species\, and who can engage the most people. By participating in the City Nature Challenge\, not only do you learn more about your local nature\, but you can also make your city a better place – for you and other species! 								\n				\n				\n				\n									\n					\n						\n									Learn About City Nature Challenge
URL:https://senecaparkzoo.org/event/invasive-species-early-detection-hike-seneca-park/
LOCATION:At The Zoo\, 2222 St. Paul Street\, Rochester\, New York\, 14621
CATEGORIES:Conservation and Education,Nature Hikes
ATTACH;FMTTYPE=image/jpeg:https://senecaparkzoo.org/wp-content/uploads/2022/09/Nature-Hike-with-PRISM-070818-Wayne-Smith-15-scaled-266x266-1.jpg
END:VEVENT
BEGIN:VEVENT
DTSTART;TZID=America/New_York:20220430T100000
DTEND;TZID=America/New_York:20220430T233000
DTSTAMP:20260424T113347
CREATED:20220928T171749Z
LAST-MODIFIED:20220929T130912Z
UID:10000206-1651312800-1651361400@senecaparkzoo.org
SUMMARY:Nature Hike for the City Nature Challenge 2022
DESCRIPTION:Join two zoo naturalists for our City Nature Challenge BioBlitz nature hikes in some of Rochester’s beautiful parks. This hike will take place on April 28th from 9:30 a.m. -11:30 a.m. at Cobbs Hill Park.  The goal of these Bioblitz’s is to document the variety of plant\, animal\, and fungal species that exist in and around the City of Rochester. We will hike through these parks and stop to document the organisms we find on the iNaturalist App. Throughout the hike we will give you opportunities to go out and explore areas on your own to see what you are able find. 								\n				\n				\n				\n									\n					\n						\n									Register for Nature Hike\n					\n					\n				\n								\n				\n					\n		\n					\n		\n				\n						\n					\n			\n						\n				\n									The City Nature Challenge is an international effort for people to find and document plants and wildlife in cities across the globe. It’s a bioblitz-style competition where cities are in a contest against each other to see who can make the most observations of nature\, who can find the most species\, and who can engage the most people. By participating in the City Nature Challenge\, not only do you learn more about your local nature\, but you can also make your city a better place – for you and other species! 								\n				\n				\n				\n									\n					\n						\n									Learn About City Nature Challenge
URL:https://senecaparkzoo.org/event/nature-hike-for-the-city-nature-challenge-2022/
LOCATION:At The Zoo\, 2222 St. Paul Street\, Rochester\, New York\, 14621
CATEGORIES:Conservation and Education,Nature Hikes
ATTACH;FMTTYPE=image/png:https://senecaparkzoo.org/wp-content/uploads/2022/07/City_Nature_Challenge_2022-1.png
END:VEVENT
BEGIN:VEVENT
DTSTART;TZID=America/New_York:20220319T100000
DTEND;TZID=America/New_York:20220319T120000
DTSTAMP:20260424T113347
CREATED:20220928T174839Z
LAST-MODIFIED:20220929T164937Z
UID:10000220-1647684000-1647691200@senecaparkzoo.org
SUMMARY:Hemlock Woolly Adelgid Workshop hosted by the Zoo's Urban Ecologists
DESCRIPTION:Join two zoo naturalists for our City Nature Challenge BioBlitz nature hikes in some of Rochester’s beautiful parks. This hike will take place on April 28th from 9:30 a.m. -11:30 a.m. at Cobbs Hill Park.  The goal of these Bioblitz’s is to document the variety of plant\, animal\, and fungal species that exist in and around the City of Rochester. We will hike through these parks and stop to document the organisms we find on the iNaturalist App. Throughout the hike we will give you opportunities to go out and explore areas on your own to see what you are able find. 								\n				\n				\n				\n									\n					\n						\n									Register for Nature Hike\n					\n					\n				\n								\n				\n					\n		\n					\n		\n				\n						\n					\n			\n						\n				\n									The City Nature Challenge is an international effort for people to find and document plants and wildlife in cities across the globe. It’s a bioblitz-style competition where cities are in a contest against each other to see who can make the most observations of nature\, who can find the most species\, and who can engage the most people. By participating in the City Nature Challenge\, not only do you learn more about your local nature\, but you can also make your city a better place – for you and other species! 								\n				\n				\n				\n									\n					\n						\n									Learn About City Nature Challenge
URL:https://senecaparkzoo.org/event/hemlock-wooly-adelgid-workshop/
LOCATION:At The Zoo\, 2222 St. Paul Street\, Rochester\, New York\, 14621
CATEGORIES:Conservation and Education,Nature Hikes
ATTACH;FMTTYPE=image/jpeg:https://senecaparkzoo.org/wp-content/uploads/2022/08/Urban-Ecologists-2020-Sarah-Hanson-6-scaled-e1644436237460.jpg
END:VEVENT
END:VCALENDAR