BEGIN:VCALENDAR
VERSION:2.0
PRODID:-//Seneca Park Zoo - ECPv6.15.18//NONSGML v1.0//EN
CALSCALE:GREGORIAN
METHOD:PUBLISH
X-WR-CALNAME:Seneca Park Zoo
X-ORIGINAL-URL:https://senecaparkzoo.org
X-WR-CALDESC:Events for Seneca Park Zoo
REFRESH-INTERVAL;VALUE=DURATION:PT1H
X-Robots-Tag:noindex
X-PUBLISHED-TTL:PT1H
BEGIN:VTIMEZONE
TZID:America/New_York
BEGIN:DAYLIGHT
TZOFFSETFROM:-0500
TZOFFSETTO:-0400
TZNAME:EDT
DTSTART:20250309T070000
END:DAYLIGHT
BEGIN:STANDARD
TZOFFSETFROM:-0400
TZOFFSETTO:-0500
TZNAME:EST
DTSTART:20251102T060000
END:STANDARD
BEGIN:DAYLIGHT
TZOFFSETFROM:-0500
TZOFFSETTO:-0400
TZNAME:EDT
DTSTART:20260308T070000
END:DAYLIGHT
BEGIN:STANDARD
TZOFFSETFROM:-0400
TZOFFSETTO:-0500
TZNAME:EST
DTSTART:20261101T060000
END:STANDARD
BEGIN:DAYLIGHT
TZOFFSETFROM:-0500
TZOFFSETTO:-0400
TZNAME:EDT
DTSTART:20270314T070000
END:DAYLIGHT
BEGIN:STANDARD
TZOFFSETFROM:-0400
TZOFFSETTO:-0500
TZNAME:EST
DTSTART:20271107T060000
END:STANDARD
END:VTIMEZONE
BEGIN:VEVENT
DTSTART;TZID=America/New_York:20260509T080000
DTEND;TZID=America/New_York:20260509T093000
DTSTAMP:20260425T115631
CREATED:20260317T155619Z
LAST-MODIFIED:20260406T172338Z
UID:10000929-1778313600-1778319000@senecaparkzoo.org
SUMMARY:Beginner Birding Tour
DESCRIPTION:At the Zoo -April 12 / 10:15 amKinderZoo: Beneficial BugsBugs have one of the most important jobs around and are often overlooked. Come to KinderZoo and find out why they are so nice to have around! For ages 18 months through 3 yearsCOSTMembers: $15 Non-members: $17Register Here 
URL:https://senecaparkzoo.org/event/beginner-birding-tour-5-9/
LOCATION:At The Zoo\, 2222 St. Paul Street\, Rochester\, New York\, 14621
CATEGORIES:Nature Hikes
ATTACH;FMTTYPE=image/png:https://senecaparkzoo.org/wp-content/uploads/2026/03/2026-Beginner-Bird-Watching-Tour-Post-1-April-12-500-x-500-px.png
END:VEVENT
BEGIN:VEVENT
DTSTART;TZID=America/New_York:20260516T101500
DTEND;TZID=America/New_York:20260516T110000
DTSTAMP:20260425T115631
CREATED:20251222T155109Z
LAST-MODIFIED:20251222T155143Z
UID:10000876-1778926500-1778929200@senecaparkzoo.org
SUMMARY:KinderZoo Super Snakes 5.16
DESCRIPTION:At the Zoo -April 12 / 10:15 amKinderZoo: Beneficial BugsBugs have one of the most important jobs around and are often overlooked. Come to KinderZoo and find out why they are so nice to have around! For ages 18 months through 3 yearsCOSTMembers: $15 Non-members: $17Register Here 
URL:https://senecaparkzoo.org/event/kinderzoo-super-snakes-5-16/
LOCATION:At The Zoo\, 2222 St. Paul Street\, Rochester\, New York\, 14621
CATEGORIES:Education Events
ATTACH;FMTTYPE=image/jpeg:https://senecaparkzoo.org/wp-content/uploads/2025/09/KinderZoo_2024_1-1-2048x2048-1-e1763998313207.jpg
END:VEVENT
BEGIN:VEVENT
DTSTART;TZID=America/New_York:20260516T113000
DTEND;TZID=America/New_York:20260516T121500
DTSTAMP:20260425T115631
CREATED:20251222T155541Z
LAST-MODIFIED:20251222T155623Z
UID:10000879-1778931000-1778933700@senecaparkzoo.org
SUMMARY:KinderZoo Animal ABCs 5.16
DESCRIPTION:At the Zoo -April 12 / 10:15 amKinderZoo: Beneficial BugsBugs have one of the most important jobs around and are often overlooked. Come to KinderZoo and find out why they are so nice to have around! For ages 18 months through 3 yearsCOSTMembers: $15 Non-members: $17Register Here 
URL:https://senecaparkzoo.org/event/kinderzoo-animal-abcs-5-16/
LOCATION:At The Zoo\, 2222 St. Paul Street\, Rochester\, New York\, 14621
CATEGORIES:Education Events
ATTACH;FMTTYPE=image/jpeg:https://senecaparkzoo.org/wp-content/uploads/2025/09/KinderZoo_2024_1-1-2048x2048-1-e1763998313207.jpg
END:VEVENT
BEGIN:VEVENT
DTSTART;TZID=America/New_York:20260523T090000
DTEND;TZID=America/New_York:20260523T120000
DTSTAMP:20260425T115631
CREATED:20260408T175904Z
LAST-MODIFIED:20260408T180841Z
UID:10000936-1779526800-1779537600@senecaparkzoo.org
SUMMARY:Maplewood Rose Garden Community Clean Up
DESCRIPTION:At the Zoo -April 12 / 10:15 amKinderZoo: Beneficial BugsBugs have one of the most important jobs around and are often overlooked. Come to KinderZoo and find out why they are so nice to have around! For ages 18 months through 3 yearsCOSTMembers: $15 Non-members: $17Register Here 
URL:https://senecaparkzoo.org/event/maplewood-rose-garden-community-clean-up/
LOCATION:New York
CATEGORIES:Park Clean Up
ATTACH;FMTTYPE=image/png:https://senecaparkzoo.org/wp-content/uploads/2026/04/26_Community_Clean_Up_Tile_March_21.png
END:VEVENT
BEGIN:VEVENT
DTSTART;TZID=America/New_York:20260524T080000
DTEND;TZID=America/New_York:20260524T093000
DTSTAMP:20260425T115631
CREATED:20260317T155716Z
LAST-MODIFIED:20260406T172501Z
UID:10000930-1779609600-1779615000@senecaparkzoo.org
SUMMARY:Beginner Birding Tour
DESCRIPTION:At the Zoo -April 12 / 10:15 amKinderZoo: Beneficial BugsBugs have one of the most important jobs around and are often overlooked. Come to KinderZoo and find out why they are so nice to have around! For ages 18 months through 3 yearsCOSTMembers: $15 Non-members: $17Register Here 
URL:https://senecaparkzoo.org/event/beginner-birding-tour-5-24/
LOCATION:At The Zoo\, 2222 St. Paul Street\, Rochester\, New York\, 14621
CATEGORIES:Nature Hikes
ATTACH;FMTTYPE=image/png:https://senecaparkzoo.org/wp-content/uploads/2026/03/2026-Beginner-Bird-Watching-Tour-Post-1-April-12-500-x-500-px.png
END:VEVENT
BEGIN:VEVENT
DTSTART;TZID=America/New_York:20260526T140000
DTEND;TZID=America/New_York:20260526T143000
DTSTAMP:20260425T115631
CREATED:20251217T172756Z
LAST-MODIFIED:20260128T194608Z
UID:10000860-1779804000-1779805800@senecaparkzoo.org
SUMMARY:Stroller Walkabouts
DESCRIPTION:At the Zoo -April 12 / 10:15 amKinderZoo: Beneficial BugsBugs have one of the most important jobs around and are often overlooked. Come to KinderZoo and find out why they are so nice to have around! For ages 18 months through 3 yearsCOSTMembers: $15 Non-members: $17Register Here 
URL:https://senecaparkzoo.org/event/stroller-walkabouts-5-26/
LOCATION:New York
CATEGORIES:Education Events
ATTACH;FMTTYPE=image/jpeg:https://senecaparkzoo.org/wp-content/uploads/2025/12/26_COM_Stroller_Walkabout_Event_Tile-1.jpg
END:VEVENT
BEGIN:VEVENT
DTSTART;VALUE=DATE:20260530
DTEND;VALUE=DATE:20260601
DTSTAMP:20260425T115631
CREATED:20250721T152003Z
LAST-MODIFIED:20260402T210204Z
UID:10000604-1780099200-1780271999@senecaparkzoo.org
SUMMARY:Genesee Weekend 2026
DESCRIPTION:At the Zoo -April 12 / 10:15 amKinderZoo: Beneficial BugsBugs have one of the most important jobs around and are often overlooked. Come to KinderZoo and find out why they are so nice to have around! For ages 18 months through 3 yearsCOSTMembers: $15 Non-members: $17Register Here 
URL:https://senecaparkzoo.org/event/genesee2026/
LOCATION:At The Zoo\, 2222 St. Paul Street\, Rochester\, New York\, 14621
CATEGORIES:Conservation and Education,Conservation Days
ATTACH;FMTTYPE=image/jpeg:https://senecaparkzoo.org/wp-content/uploads/2025/07/26_CAD_3_River_Otter_Tile.jpg
END:VEVENT
BEGIN:VEVENT
DTSTART;VALUE=DATE:20260620
DTEND;VALUE=DATE:20260622
DTSTAMP:20260425T115631
CREATED:20251229T190325Z
LAST-MODIFIED:20260402T205715Z
UID:10000889-1781913600-1782086399@senecaparkzoo.org
SUMMARY:Animals of the Savanna Weekend
DESCRIPTION:At the Zoo -April 12 / 10:15 amKinderZoo: Beneficial BugsBugs have one of the most important jobs around and are often overlooked. Come to KinderZoo and find out why they are so nice to have around! For ages 18 months through 3 yearsCOSTMembers: $15 Non-members: $17Register Here 
URL:https://senecaparkzoo.org/event/animals-of-the-savanna-weekend/
LOCATION:At The Zoo\, 2222 St. Paul Street\, Rochester\, New York\, 14621
CATEGORIES:Conservation and Education,Conservation Days,Home Page
ATTACH;FMTTYPE=image/jpeg:https://senecaparkzoo.org/wp-content/uploads/2025/12/26_CAD_4_Giraffe_Tile.jpg
END:VEVENT
BEGIN:VEVENT
DTSTART;VALUE=DATE:20260704
DTEND;VALUE=DATE:20260706
DTSTAMP:20260425T115631
CREATED:20260402T211417Z
LAST-MODIFIED:20260402T211831Z
UID:10000934-1783123200-1783295999@senecaparkzoo.org
SUMMARY:Animals of the Americas Weekend
DESCRIPTION:At the Zoo -April 12 / 10:15 amKinderZoo: Beneficial BugsBugs have one of the most important jobs around and are often overlooked. Come to KinderZoo and find out why they are so nice to have around! For ages 18 months through 3 yearsCOSTMembers: $15 Non-members: $17Register Here 
URL:https://senecaparkzoo.org/event/animals-of-the-americas-weekend/
LOCATION:New York
CATEGORIES:Conservation and Education,Conservation Days
ATTACH;FMTTYPE=image/jpeg:https://senecaparkzoo.org/wp-content/uploads/2026/04/26_CAD_5_Lynx_Tile.jpg
END:VEVENT
BEGIN:VEVENT
DTSTART;TZID=America/New_York:20260815T100000
DTEND;TZID=America/New_York:20260815T170000
DTSTAMP:20260425T115631
CREATED:20251229T162042Z
LAST-MODIFIED:20260409T171607Z
UID:10000886-1786788000-1786813200@senecaparkzoo.org
SUMMARY:Panamanian Golden Frog Awareness Day 2026
DESCRIPTION:At the Zoo -April 12 / 10:15 amKinderZoo: Beneficial BugsBugs have one of the most important jobs around and are often overlooked. Come to KinderZoo and find out why they are so nice to have around! For ages 18 months through 3 yearsCOSTMembers: $15 Non-members: $17Register Here 
URL:https://senecaparkzoo.org/event/panamanian-golden-frog-awareness-day-2026/
LOCATION:At The Zoo\, 2222 St. Paul Street\, Rochester\, New York\, 14621
CATEGORIES:Conservation and Education,Conservation Days,Home Page
ATTACH;FMTTYPE=image/jpeg:https://senecaparkzoo.org/wp-content/uploads/2025/12/26_COM_ConAw_Day_Golden_Frog_Tile.jpg
END:VEVENT
BEGIN:VEVENT
DTSTART;TZID=America/New_York:20260919T100000
DTEND;TZID=America/New_York:20260919T170000
DTSTAMP:20260425T115631
CREATED:20250320T181414Z
LAST-MODIFIED:20260409T172527Z
UID:10000571-1789812000-1789837200@senecaparkzoo.org
SUMMARY:Cold Asia Awareness 2026
DESCRIPTION:At the Zoo -April 12 / 10:15 amKinderZoo: Beneficial BugsBugs have one of the most important jobs around and are often overlooked. Come to KinderZoo and find out why they are so nice to have around! For ages 18 months through 3 yearsCOSTMembers: $15 Non-members: $17Register Here 
URL:https://senecaparkzoo.org/event/cold-asia-awareness-2026/
LOCATION:At The Zoo\, 2222 St. Paul Street\, Rochester\, New York\, 14621
CATEGORIES:Conservation and Education,Conservation Days,Home Page
ATTACH;FMTTYPE=image/jpeg:https://senecaparkzoo.org/wp-content/uploads/2025/03/26_COM_ConAw_Day_Red_Panda_Tile.jpg
END:VEVENT
BEGIN:VEVENT
DTSTART;TZID=America/New_York:20261010T100000
DTEND;TZID=America/New_York:20261010T170000
DTSTAMP:20260425T115631
CREATED:20250916T204345Z
LAST-MODIFIED:20251222T184041Z
UID:10000612-1791626400-1791651600@senecaparkzoo.org
SUMMARY:Deaf Culture Awareness Day at the Zoo 2026
DESCRIPTION:At the Zoo -April 12 / 10:15 amKinderZoo: Beneficial BugsBugs have one of the most important jobs around and are often overlooked. Come to KinderZoo and find out why they are so nice to have around! For ages 18 months through 3 yearsCOSTMembers: $15 Non-members: $17Register Here 
URL:https://senecaparkzoo.org/event/deaf-culture-2026/
LOCATION:At The Zoo\, 2222 St. Paul Street\, Rochester\, New York\, 14621
CATEGORIES:Conservation and Education,Conservation Days
ATTACH;FMTTYPE=image/png:https://senecaparkzoo.org/wp-content/uploads/2025/09/Deaf-Culture-Awareness-Day-2025-7.png
END:VEVENT
END:VCALENDAR