BEGIN:VCALENDAR
VERSION:2.0
PRODID:-//Seneca Park Zoo - ECPv6.15.18//NONSGML v1.0//EN
CALSCALE:GREGORIAN
METHOD:PUBLISH
X-ORIGINAL-URL:https://senecaparkzoo.org
X-WR-CALDESC:Events for Seneca Park Zoo
REFRESH-INTERVAL;VALUE=DURATION:PT1H
X-Robots-Tag:noindex
X-PUBLISHED-TTL:PT1H
BEGIN:VTIMEZONE
TZID:America/New_York
BEGIN:DAYLIGHT
TZOFFSETFROM:-0500
TZOFFSETTO:-0400
TZNAME:EDT
DTSTART:20250309T070000
END:DAYLIGHT
BEGIN:STANDARD
TZOFFSETFROM:-0400
TZOFFSETTO:-0500
TZNAME:EST
DTSTART:20251102T060000
END:STANDARD
BEGIN:DAYLIGHT
TZOFFSETFROM:-0500
TZOFFSETTO:-0400
TZNAME:EDT
DTSTART:20260308T070000
END:DAYLIGHT
BEGIN:STANDARD
TZOFFSETFROM:-0400
TZOFFSETTO:-0500
TZNAME:EST
DTSTART:20261101T060000
END:STANDARD
BEGIN:DAYLIGHT
TZOFFSETFROM:-0500
TZOFFSETTO:-0400
TZNAME:EDT
DTSTART:20270314T070000
END:DAYLIGHT
BEGIN:STANDARD
TZOFFSETFROM:-0400
TZOFFSETTO:-0500
TZNAME:EST
DTSTART:20271107T060000
END:STANDARD
END:VTIMEZONE
BEGIN:VEVENT
DTSTART;TZID=America/New_York:20260807T173000
DTEND;TZID=America/New_York:20260807T210000
DTSTAMP:20260422T113609
CREATED:20251125T190623Z
LAST-MODIFIED:20260127T213559Z
UID:10000828-1786123800-1786136400@senecaparkzoo.org
SUMMARY:ZooBrew
DESCRIPTION:
URL:https://senecaparkzoo.org/event/zoobrew-3/
LOCATION:New York
CATEGORIES:After-Hours Event,ZooBrew
ATTACH;FMTTYPE=image/png:https://senecaparkzoo.org/wp-content/uploads/2025/11/Untitled-design-2025-11-25T133235.167.png
END:VEVENT
BEGIN:VEVENT
DTSTART;TZID=America/New_York:20260904T173000
DTEND;TZID=America/New_York:20260904T210000
DTSTAMP:20260422T113609
CREATED:20251125T190841Z
LAST-MODIFIED:20260127T213608Z
UID:10000829-1788543000-1788555600@senecaparkzoo.org
SUMMARY:ZooBrew
DESCRIPTION:
URL:https://senecaparkzoo.org/event/zoobrew-4/
LOCATION:New York
CATEGORIES:After-Hours Event,ZooBrew
ATTACH;FMTTYPE=image/png:https://senecaparkzoo.org/wp-content/uploads/2025/11/Untitled-design-2025-11-25T133235.167.png
END:VEVENT
END:VCALENDAR