BEGIN:VCALENDAR
VERSION:2.0
PRODID:-//Seneca Park Zoo - ECPv6.15.18//NONSGML v1.0//EN
CALSCALE:GREGORIAN
METHOD:PUBLISH
X-ORIGINAL-URL:https://senecaparkzoo.org
X-WR-CALDESC:Events for Seneca Park Zoo
REFRESH-INTERVAL;VALUE=DURATION:PT1H
X-Robots-Tag:noindex
X-PUBLISHED-TTL:PT1H
BEGIN:VTIMEZONE
TZID:America/New_York
BEGIN:DAYLIGHT
TZOFFSETFROM:-0500
TZOFFSETTO:-0400
TZNAME:EDT
DTSTART:20200308T070000
END:DAYLIGHT
BEGIN:STANDARD
TZOFFSETFROM:-0400
TZOFFSETTO:-0500
TZNAME:EST
DTSTART:20201101T060000
END:STANDARD
BEGIN:DAYLIGHT
TZOFFSETFROM:-0500
TZOFFSETTO:-0400
TZNAME:EDT
DTSTART:20210314T070000
END:DAYLIGHT
BEGIN:STANDARD
TZOFFSETFROM:-0400
TZOFFSETTO:-0500
TZNAME:EST
DTSTART:20211107T060000
END:STANDARD
BEGIN:DAYLIGHT
TZOFFSETFROM:-0500
TZOFFSETTO:-0400
TZNAME:EDT
DTSTART:20220313T070000
END:DAYLIGHT
BEGIN:STANDARD
TZOFFSETFROM:-0400
TZOFFSETTO:-0500
TZNAME:EST
DTSTART:20221106T060000
END:STANDARD
BEGIN:DAYLIGHT
TZOFFSETFROM:-0500
TZOFFSETTO:-0400
TZNAME:EDT
DTSTART:20230312T070000
END:DAYLIGHT
BEGIN:STANDARD
TZOFFSETFROM:-0400
TZOFFSETTO:-0500
TZNAME:EST
DTSTART:20231105T060000
END:STANDARD
END:VTIMEZONE
BEGIN:VEVENT
DTSTART;TZID=America/New_York:20220722T173000
DTEND;TZID=America/New_York:20220722T210000
DTSTAMP:20260421T101752
CREATED:20220928T201542Z
LAST-MODIFIED:20220929T152031Z
UID:10000246-1658511000-1658523600@senecaparkzoo.org
SUMMARY:ZooBrew July 2022
DESCRIPTION:At the Zoo – July 14 / 5:30 pm** ZooBrew Season is Here – July is ’70s Throwback Night!! ** Spend an evening outdoors at the Zoo with a drink in hand at ZooBrew! Enjoy great live music\, delicious food and drink\, and animal experiences at this after-hours event exclusively for adults 21+. ZooBrew supports elephant conservation with a portion of each ticket sold. ZooBrews have raised nearly $60\,000 for elephant conservation. Help us reach our goal of raising $8\,000 for elephant conservation in 2023! Join us at the only event in town where you can help save elephants from extinction just by attending! 								\n				\n				\n				\n									\n					\n						\n									Tickets Available at Gate\n					\n					\n				\n								\n				\n					\n		\n					\n		\n				\n						\n					\n			\n						\n				\n									**Limited number of tickets will be made available. Advance ticket sales end at 2 p.m. the day of ZooBrew or when sold out. Tickets are date specific and non-refundable. All sales are final. Should a ticket holder be unable to attend the event\, the purchase will be considered a donation. Tickets are $10 in advance or $15 at the door (if available)\, and include event admission\, live music\, and animal experiences. Beer\, wine\, and food will be available for purchase. This event is held rain or shine. Date:    July 14th Price:     $10 in advance buy here or $15 at the Front Gate (if available) Music:  Songbirds (A Tribute to Fleetwood Mac) and Delilah Jones VIP Tickets: For the first time ever\, get a VIP ticket which includes a guaranteed parking spot in the Cornell Cooperative Extension lot\, admission\, separate VIP entry\, and 2 drink tickets. Any guests who carpool with the VIP ticketholder must purchase a general admission ticket in advance. Only 100 VIP tickets available!  Price: $50  Thank you to Presenting Sponsor:  And to our Entertainment Presenting Sponsor:
URL:https://senecaparkzoo.org/event/zoobrew-july-2022/
LOCATION:At The Zoo\, 2222 St. Paul Street\, Rochester\, New York\, 14621
CATEGORIES:Special Events,ZooBrew
ATTACH;FMTTYPE=image/webp:https://senecaparkzoo.org/wp-content/uploads/2022/09/zoobrew_header_HR-e1627322974132-1-1.webp
END:VEVENT
BEGIN:VEVENT
DTSTART;TZID=America/New_York:20210925T173000
DTEND;TZID=America/New_York:20210925T203000
DTSTAMP:20260421T101752
CREATED:20221011T172654Z
LAST-MODIFIED:20221011T172654Z
UID:10000265-1632591000-1632601800@senecaparkzoo.org
SUMMARY:Apples\, Ales & Tails 2021
DESCRIPTION:At the Zoo – July 14 / 5:30 pm** ZooBrew Season is Here – July is ’70s Throwback Night!! ** Spend an evening outdoors at the Zoo with a drink in hand at ZooBrew! Enjoy great live music\, delicious food and drink\, and animal experiences at this after-hours event exclusively for adults 21+. ZooBrew supports elephant conservation with a portion of each ticket sold. ZooBrews have raised nearly $60\,000 for elephant conservation. Help us reach our goal of raising $8\,000 for elephant conservation in 2023! Join us at the only event in town where you can help save elephants from extinction just by attending! 								\n				\n				\n				\n									\n					\n						\n									Tickets Available at Gate\n					\n					\n				\n								\n				\n					\n		\n					\n		\n				\n						\n					\n			\n						\n				\n									**Limited number of tickets will be made available. Advance ticket sales end at 2 p.m. the day of ZooBrew or when sold out. Tickets are date specific and non-refundable. All sales are final. Should a ticket holder be unable to attend the event\, the purchase will be considered a donation. Tickets are $10 in advance or $15 at the door (if available)\, and include event admission\, live music\, and animal experiences. Beer\, wine\, and food will be available for purchase. This event is held rain or shine. Date:    July 14th Price:     $10 in advance buy here or $15 at the Front Gate (if available) Music:  Songbirds (A Tribute to Fleetwood Mac) and Delilah Jones VIP Tickets: For the first time ever\, get a VIP ticket which includes a guaranteed parking spot in the Cornell Cooperative Extension lot\, admission\, separate VIP entry\, and 2 drink tickets. Any guests who carpool with the VIP ticketholder must purchase a general admission ticket in advance. Only 100 VIP tickets available!  Price: $50  Thank you to Presenting Sponsor:  And to our Entertainment Presenting Sponsor:
URL:https://senecaparkzoo.org/event/apples-ales-tails-2021/
LOCATION:At The Zoo\, 2222 St. Paul Street\, Rochester\, New York\, 14621
CATEGORIES:Special Events,ZooBrew
ATTACH;FMTTYPE=image/png:https://senecaparkzoo.org/wp-content/uploads/2022/08/ApplesAlesandTails_FB_081721-graphic-e1629227130311.png
END:VEVENT
END:VCALENDAR