BEGIN:VCALENDAR
VERSION:2.0
PRODID:-//Seneca Park Zoo - ECPv6.15.18//NONSGML v1.0//EN
CALSCALE:GREGORIAN
METHOD:PUBLISH
X-WR-CALNAME:Seneca Park Zoo
X-ORIGINAL-URL:https://senecaparkzoo.org
X-WR-CALDESC:Events for Seneca Park Zoo
REFRESH-INTERVAL;VALUE=DURATION:PT1H
X-Robots-Tag:noindex
X-PUBLISHED-TTL:PT1H
BEGIN:VTIMEZONE
TZID:America/New_York
BEGIN:DAYLIGHT
TZOFFSETFROM:-0500
TZOFFSETTO:-0400
TZNAME:EDT
DTSTART:20250309T070000
END:DAYLIGHT
BEGIN:STANDARD
TZOFFSETFROM:-0400
TZOFFSETTO:-0500
TZNAME:EST
DTSTART:20251102T060000
END:STANDARD
BEGIN:DAYLIGHT
TZOFFSETFROM:-0500
TZOFFSETTO:-0400
TZNAME:EDT
DTSTART:20260308T070000
END:DAYLIGHT
BEGIN:STANDARD
TZOFFSETFROM:-0400
TZOFFSETTO:-0500
TZNAME:EST
DTSTART:20261101T060000
END:STANDARD
BEGIN:DAYLIGHT
TZOFFSETFROM:-0500
TZOFFSETTO:-0400
TZNAME:EDT
DTSTART:20270314T070000
END:DAYLIGHT
BEGIN:STANDARD
TZOFFSETFROM:-0400
TZOFFSETTO:-0500
TZNAME:EST
DTSTART:20271107T060000
END:STANDARD
END:VTIMEZONE
BEGIN:VEVENT
DTSTART;TZID=America/New_York:20261231T110000
DTEND;TZID=America/New_York:20261231T123000
DTSTAMP:20260422T123613
CREATED:20241127T150621Z
LAST-MODIFIED:20251222T170026Z
UID:10000513-1798714800-1798720200@senecaparkzoo.org
SUMMARY:Noon Year's Eve
DESCRIPTION:At the Zoo – November 11 / 9:00 amVeterans DaySchool is out\, so come to the Zoo instead! We will spend the day exploring all the different types of animal coverings at the Zoo. Does your favorite animal have feathers\, fur\, or something else entirely. It’s like Summer ZooCamp in a single day! For ages 5 through 9Full-day: 9 a.m. to 4 p.m.There is no half-day option available for this camp.COSTMembers: $45 for full-dayNon-members: $55 for full-dayRegister Here Please check your individual school calendar to confirm the day off. Registration for this program is non-refundable.
URL:https://senecaparkzoo.org/event/noon-years-eve/
LOCATION:At The Zoo\, 2222 St. Paul Street\, Rochester\, New York\, 14621
ATTACH;FMTTYPE=image/jpeg:https://senecaparkzoo.org/wp-content/uploads/2024/11/NOONYEAR_1_Social_1-1.jpg
END:VEVENT
END:VCALENDAR