BEGIN:VCALENDAR
VERSION:2.0
PRODID:-//Seneca Park Zoo - ECPv6.15.18//NONSGML v1.0//EN
CALSCALE:GREGORIAN
METHOD:PUBLISH
X-ORIGINAL-URL:https://senecaparkzoo.org
X-WR-CALDESC:Events for Seneca Park Zoo
REFRESH-INTERVAL;VALUE=DURATION:PT1H
X-Robots-Tag:noindex
X-PUBLISHED-TTL:PT1H
BEGIN:VTIMEZONE
TZID:America/New_York
BEGIN:DAYLIGHT
TZOFFSETFROM:-0500
TZOFFSETTO:-0400
TZNAME:EDT
DTSTART:20240310T070000
END:DAYLIGHT
BEGIN:STANDARD
TZOFFSETFROM:-0400
TZOFFSETTO:-0500
TZNAME:EST
DTSTART:20241103T060000
END:STANDARD
BEGIN:DAYLIGHT
TZOFFSETFROM:-0500
TZOFFSETTO:-0400
TZNAME:EDT
DTSTART:20250309T070000
END:DAYLIGHT
BEGIN:STANDARD
TZOFFSETFROM:-0400
TZOFFSETTO:-0500
TZNAME:EST
DTSTART:20251102T060000
END:STANDARD
BEGIN:DAYLIGHT
TZOFFSETFROM:-0500
TZOFFSETTO:-0400
TZNAME:EDT
DTSTART:20260308T070000
END:DAYLIGHT
BEGIN:STANDARD
TZOFFSETFROM:-0400
TZOFFSETTO:-0500
TZNAME:EST
DTSTART:20261101T060000
END:STANDARD
END:VTIMEZONE
BEGIN:VEVENT
DTSTART;TZID=America/New_York:20250814T173000
DTEND;TZID=America/New_York:20250814T193000
DTSTAMP:20260420T101656
CREATED:20250731T172403Z
LAST-MODIFIED:20250731T175729Z
UID:10000605-1755192600-1755199800@senecaparkzoo.org
SUMMARY:Paddle Day CleanUp
DESCRIPTION:Learn about environmental stewardship with the Seneca Park Zoo Society while getting out on the water and helping to protect our  waterways with this hands-on\, educational paddle of the Genesee River\, Erie Canal and Red Creek. \nRegister Here\n 
URL:https://senecaparkzoo.org/event/paddle-day-cleanup/
LOCATION:Genesee Waterways Center\, 149 Elmwood Ave\, Rochester\, NY\, 14611\, United States
ATTACH;FMTTYPE=image/png:https://senecaparkzoo.org/wp-content/uploads/2025/07/2025-PCA-Paddle-Day-CleanUp.png
END:VEVENT
END:VCALENDAR